Workbook

Sheet Rapport
F1: Version: 1.1 | G1: Senast uppdaterad: | I1: 46134 | L1: sid 1/2
F2: Försäljnings-/Förbrukningsrapport
A3: Avdelningen för energiberedskap | G3: Datum
A4: Box 310, 631 04 ESKILSTUNA | J4: Rapport av:
A5: Telefon: 016-544 20 00 | G5: Referensår
A7: Informationsklass: K2
A9: Företag | D9: Adress | H9: Telefon | J9: Kontaktperson
A11: Organisationsnummer | D11: Postnr, ort | H11: E-mail
M14: Enhet m3
C15: Motorbensin | F15: Flygfotogen | I15: Dbo/eo 1 | L15: Övrig eo | M15: Råolja | N15: {=IFERROR(_xlfn.IFS(OR(C18="",D18="",E18="",F18="",G18="",H18="",I18="",J18="",K18="",L18="",M18=""),"Fyll i samtliga värden för 'Importerad kvantitet (m3)'!",OR(C18<0,D18<0,E18<0,F18<0,G18<0,H18<0,I18<0,J18<0,K18<0,L18<0,M18<0),"'Importerad kvatitet' kan inte vara negativt"),"")} -> Fyll i samtliga värden för 'Importerad kvantitet (m3)'!
C16: Motorbensin | E16: Ren biobensin | F16: Flygfotogen | H16: Ren biofotogen | I16: Dbo/eo 1 | K16: Ren biodiesel | L16: Övr eo inkl WRD
C17: Totalt | D17: Därav biobensin | F17: Totalt | G17: Därav biofotogen | I17: Totalt | J17: Därav biodiesel
A18: Importerad kvantitet (m3)
A19: Total förbrukning (m3)
A20: Total försäljning (m3)
A21: Försäljning till koncerbolag 1) | B21: -
A22: Bränsle sålt för export | B22: -
A23: Försäljning för bunkering till utrikes sjöfart | B23: -
A24: Försäljning till annan lagringsskyldig 2) | B24: - | C24: ='Annan lagringsskyldig'!B29 -> 0 | D24: ='Annan lagringsskyldig'!C29 -> 0 | E24: ='Annan lagringsskyldig'!D29 -> 0 | F24: ='Annan lagringsskyldig'!E29 -> 0 | G24: ='Annan lagringsskyldig'!F29 -> 0 | H24: ='Annan lagringsskyldig'!G29 -> 0 | I24: ='Annan lagringsskyldig'!H29 -> 0 | J24: ='Annan lagringsskyldig'!I29 -> 0 | ... L24: ='Annan lagringsskyldig'!K29 -> 0
A25: BASMÄNGD | C25: {=IFERROR(_xlfn.IFS(AND(J5="Försäljare",SUM($C$18,$F$18,$I$18,$L$18,$M$18)>=2500,SUM($C$20,$F$20,$I$20,$L$20)>=50000),SUM(C19:C20)-SUM(C21:C24),AND(J5="Försäljare",SUM($C$18,$F$18,$I$18,$L$18,$M$18)>=2500,SUM($C$20,$F$20,$I$20,$L$20)<50000),SUM(C19:C20)-SUM(C21:C24),AND(J5="Försäljare",SUM($C$18,$F$18,$I$18,$L$18,$M$18)<2500,SUM($C$20,$F$20,$I$20,$L$20)>=50000),SUM(C20)-SUM(C21:C24),AND(J5="Försäljare",SUM($C$18,$F$18,$I$18,$L$18,$M$18)<2500,SUM($C$20,$F$20,$I$20,$L$20)<50000),0,AND(J5="Förbrukare",SUM($C$18,$F$18,$I$18,$L$18,$M$18)>=2500,SUM($C$20,$F$20,$I$20,$L$20)>=50000),SUM(C19:C20)-SUM(C21:C24),AND(J5="Förbrukare",SUM($C$18,$F$18,$I$18,$L$18,$M$18)>=2500,SUM($C$20,$F$20,$I$20,$L$20)<50000),SUM(C19:C20)-SUM(C21:C24),AND(J5="Förbrukare",SUM($C$18,$F$18,$I$18,$L$18,$M$18)<2500,SUM($C$20,$F$20,$I$20,$L$20)>=50000),SUM(C20)-SUM(C21:C24),AND(J5="Förbrukare",SUM($C$18,$F$18,$I$18,$L$18,$M$18)<2500,SUM($C$20,$F$20,$I$20,$L$20)<50000),0,NOT(OR(J5="Försäljare",J5="Förbrukare")),"Ange 'Rapport av'"),"")} -> Ange 'Rapport av' | D25: =IF(C25>=0,SUM(D19+D20)-SUM(D21+D22+D23+D24),"") -> 0 | E25: =IF(C25>=0,SUM(E19+E20)-SUM(E21+E22+E23+E24),"") -> 0 | F25: {=IFERROR(_xlfn.IFS(AND(J5="Försäljare",SUM($C$18,$F$18,$I$18,$L$18,$M$18)>=2500,SUM($C$20,$F$20,$I$20,$L$20)>=50000),SUM(F19:F20)-SUM(F21:F24),AND(J5="Försäljare",SUM($C$18,$F$18,$I$18,$L$18,$M$18)>=2500,SUM($C$20,$F$20,$I$20,$L$20)<50000),SUM(F19:F20)-SUM(F21:F24),AND(J5="Försäljare",SUM($C$18,$F$18,$I$18,$L$18,$M$18)<2500,SUM($C$20,$F$20,$I$20,$L$20)>=50000),SUM(F20)-SUM(F21:F24),AND(J5="Försäljare",SUM($C$18,$F$18,$I$18,$L$18,$M$18)<2500,SUM($C$20,$F$20,$I$20,$L$20)<50000),0,AND(J5="Förbrukare",SUM($C$18,$F$18,$I$18,$L$18,$M$18)>=2500,SUM($C$20,$F$20,$I$20,$L$20)>=50000),SUM(F19:F20)-SUM(F21:F24),AND(J5="Förbrukare",SUM($C$18,$F$18,$I$18,$L$18,$M$18)>=2500,SUM($C$20,$F$20,$I$20,$L$20)<50000),SUM(F19:F20)-SUM(F21:F24),AND(J5="Förbrukare",SUM($C$18,$F$18,$I$18,$L$18,$M$18)<2500,SUM($C$20,$F$20,$I$20,$L$20)>=50000),SUM(F20)-SUM(F21:F24),AND(J5="Förbrukare",SUM($C$18,$F$18,$I$18,$L$18,$M$18)<2500,SUM($C$20,$F$20,$I$20,$L$20)<50000),0,NOT(OR(J5="Försäljare",J5="Förbrukare")),"Ange 'Rapport av'"),"")} -> Ange 'Rapport av' | G25: =IF(F25>=0,SUM(G19+G20)-SUM(G21+G22+G23+G24),"") -> 0 | H25: =IF(F25>=0,SUM(H19+H20)-SUM(H21+H22+H23+H24),"") -> 0 | I25: {=IFERROR(_xlfn.IFS(AND(J5="Försäljare",SUM($C$18,$F$18,$I$18,$L$18,$M$18)>=2500,SUM($C$20,$F$20,$I$20,$L$20)>=50000),SUM(I19:I20)-SUM(I21:I24),AND(J5="Försäljare",SUM($C$18,$F$18,$I$18,$L$18,$M$18)>=2500,SUM($C$20,$F$20,$I$20,$L$20)<50000),SUM(I19:I20)-SUM(I21:I24),AND(J5="Försäljare",SUM($C$18,$F$18,$I$18,$L$18,$M$18)<2500,SUM($C$20,$F$20,$I$20,$L$20)>=50000),SUM(I20)-SUM(I21:I24),AND(J5="Försäljare",SUM($C$18,$F$18,$I$18,$L$18,$M$18)<2500,SUM($C$20,$F$20,$I$20,$L$20)<50000),0,AND(J5="Förbrukare",SUM($C$18,$F$18,$I$18,$L$18,$M$18)>=2500,SUM($C$20,$F$20,$I$20,$L$20)>=50000),SUM(I19:I20)-SUM(I21:I24),AND(J5="Förbrukare",SUM($C$18,$F$18,$I$18,$L$18,$M$18)>=2500,SUM($C$20,$F$20,$I$20,$L$20)<50000),SUM(I19:I20)-SUM(I21:I24),AND(J5="Förbrukare",SUM($C$18,$F$18,$I$18,$L$18,$M$18)<2500,SUM($C$20,$F$20,$I$20,$L$20)>=50000),SUM(I20)-SUM(I21:I24),AND(J5="Förbrukare",SUM($C$18,$F$18,$I$18,$L$18,$M$18)<2500,SUM($C$20,$F$20,$I$20,$L$20)<50000),0,NOT(OR(J5="Försäljare",J5="Förbrukare")),"Ange 'Rapport av'"),"")} -> Ange 'Rapport av' | J25: =IF(I25>=0,SUM(J19+J20)-SUM(J21+J22+J23+J24),"") -> 0 | K25: =IF(I25>=0,SUM(K19+K20)-SUM(K21+K22+K23+K24),"") -> 0 | L25: {=IFERROR(_xlfn.IFS(AND(J5="Försäljare",SUM($C$18,$F$18,$I$18,$L$18,$M$18)>=2500,SUM($C$20,$F$20,$I$20,$L$20)>=50000),SUM(L19:L20)-SUM(L21:L24),AND(J5="Försäljare",SUM($C$18,$F$18,$I$18,$L$18,$M$18)>=2500,SUM($C$20,$F$20,$I$20,$L$20)<50000),SUM(L19:L20)-SUM(L21:L24),AND(J5="Försäljare",SUM($C$18,$F$18,$I$18,$L$18,$M$18)<2500,SUM($C$20,$F$20,$I$20,$L$20)>=50000),SUM(L20)-SUM(L21:L24),AND(J5="Försäljare",SUM($C$18,$F$18,$I$18,$L$18,$M$18)<2500,SUM($C$20,$F$20,$I$20,$L$20)<50000),0,AND(J5="Förbrukare",SUM($C$18,$F$18,$I$18,$L$18,$M$18)>=2500,SUM($C$20,$F$20,$I$20,$L$20)>=50000),SUM(L19:L20)-SUM(L21:L24),AND(J5="Förbrukare",SUM($C$18,$F$18,$I$18,$L$18,$M$18)>=2500,SUM($C$20,$F$20,$I$20,$L$20)<50000),SUM(L19:L20)-SUM(L21:L24),AND(J5="Förbrukare",SUM($C$18,$F$18,$I$18,$L$18,$M$18)<2500,SUM($C$20,$F$20,$I$20,$L$20)>=50000),SUM(L20)-SUM(L21:L24),AND(J5="Förbrukare",SUM($C$18,$F$18,$I$18,$L$18,$M$18)<2500,SUM($C$20,$F$20,$I$20,$L$20)<50000),0,NOT(OR(J5="Försäljare",J5="Förbrukare")),"Ange 'Rapport av'"),"")} -> Ange 'Rapport av' | N25: =IF(OR(C25<0,D25<0,E25<0,F25<0,G25<0,H25<0,I25<0,J25<0,K25<0,L25<0),"BASMÄNGD kan inte vara negativt","")
A27: * Obligatorisk fält
A28: 1) Denna post avser endast bolag som ansökt om koncernlagring
A29: 2) Försäljning till annan lagringsskydlig som Statlig myndighet, lagringskyldig säljare, lagringskyldig förbrukare.
L34: sid 2/2
A35: Övriga upplysningar
A40: Behörig firmatecknare | F40: Namnförtydligande
A41: Uppgifterna på denna blankett är lämnade enligt kap. 3, 5 § lagen (2012:806) om beredskapslagring av olja

Sheet Annan lagringsskyldig
H1: =Rapport!F1 -> Version: 1.1 | J1: =Rapport!G1 -> Senast uppdaterad: | L1: =Rapport!I1 -> 46134
G2: {=_xlfn.IFS(Rapport!J5="Förbrukare","Bilaga 1 - Förbrukningsrapport",Rapport!J5="Försäljare","Bilaga 1 - Försäljningssrapport",Rapport!J5="","Ange 'Rapport av'")} -> Ange 'Rapport av'
A5: Informationsklass: K2
A7: Företag
A8: =Rapport!A10:J10 -> 0
A10: Försäljning till företag enligt förteckning över lagringsskyldiga utgiven av Energimyndigheten
L11: Enhet m3
A12: Lagringsskyldigt företag | B12: Bensin | E12: Flygfotogen | H12: Dbo/eo 1 | K12: Övrig eo | L12: Råolja
B13: Motorbensin | D13: Ren biobensin | E13: Flygfotogen | G13: Ren biofotogen | H13: Dbo/eo 1 | J13: Ren biodiesel | K13: Övr eo inkl WRD
B14: Totalt | C14: Därav biobensin | E14: Totalt | F14: Därav biofotogen | H14: Totalt | I14: Därav biodiesel
A29: Summa | B29: =SUM(B15:B28) -> 0 | C29: =SUM(C15:C28) -> 0 | D29: =SUM(D15:D28) -> 0 | E29: =SUM(E15:E28) -> 0 | F29: =SUM(F15:F28) -> 0 | G29: =SUM(G15:G28) -> 0 | H29: =SUM(H15:H28) -> 0 | I29: =SUM(I15:I28) -> 0 | ... L29: =SUM(L15:L28) -> 0
