Workbook

Sheet Lagerrapport
E1: Lagerrapport
A2: Avdelningen för energiberedskap | E2: Datum
A3: Box 310, 631 04 ESKILSTUNA
A4: Telefon: 016-544 20 00
A6: Informationsklass: K2
A8: Uppgift över lager av olja enligt 6 kap. 3 § lag (2012:806) om beredskapslagring av olja och 15 och 16 §§ Statens energimyndighets föreskrifter och allmänna råd om beredskapslagring av olja (STEMFS 2012:7)
A10: Företag | D10: Kontaktperson
A12: Postadress | D12: Telefon | F12: Telefax
A14: Postnr, Ort | D14: Mobiltelefon
A16: Organisationsnr. | D16: E-mail
A19: Lager vid utgången av månad: | D19: År:
G20: Enhet i m3
A21: Produkt | B21: Eget (ägt lager i Sverige och/eller i utlandet) | C21: Tillkommer (lagring hos annan enl lagringsavtal) | D21: Avgår (lagring för annans räkning enl lagringsavtal) | E21: Summa | G21: Utländskt beredskapslager i Sverige (Ni äger INTE varan)
A22: Motorbensin | B22: ='Utgående lager i Sverige'!C22+'Eget lager i utlandet'!D22+'Varufodringar & varuskulder'!B22 -> 0 | C22: ='Lager hos andra'!D22 -> 0 | D22: ='Lager för andra'!D22 -> 0 | E22: =SUM(B22:C22,B23)-D22 -> 0 | G22: ='Lager för andra -äger inte vara'!D22 -> 0
A23: Biodrivmedel som ännu ej är inblandad i motorbensin | B23: ='Utgående lager i Sverige'!D22 -> 0
A24: Flygfotogen | B24: ='Utgående lager i Sverige'!E22+'Eget lager i utlandet'!E22+'Varufodringar & varuskulder'!C22 -> 0 | C24: ='Lager hos andra'!E22 -> 0 | D24: ='Lager för andra'!E22 -> 0 | E24: =SUM(B24:C24,B25)-D24 -> 0 | G24: ='Lager för andra -äger inte vara'!E22 -> 0
A25: Biodrivmedel som ännu ej är inblandad i flygfotogen | B25: ='Utgående lager i Sverige'!F22 -> 0
A26: Dieselbrännolja/ Eldningsolja 1 | B26: ='Utgående lager i Sverige'!G22+'Eget lager i utlandet'!F22+'Varufodringar & varuskulder'!D22 -> 0 | C26: ='Lager hos andra'!F22 -> 0 | D26: ='Lager för andra'!F22 -> 0 | E26: =SUM(B26:C26,B27)-D26 -> 0 | G26: ='Lager för andra -äger inte vara'!F22 -> 0
A27: Biodrivmedel som ännu ej är inblandad i diesel | B27: ='Utgående lager i Sverige'!H22 -> 0
A28: Övrig eldningsolja | B28: ='Utgående lager i Sverige'!I22+'Eget lager i utlandet'!G22+'Varufodringar & varuskulder'!E22 -> 0 | C28: ='Lager hos andra'!G22 -> 0 | D28: ='Lager för andra'!G22 -> 0 | E28: =SUM(B28:C28)-D28 -> 0 | G28: ='Lager för andra -äger inte vara'!G22 -> 0
A29: Råolja | B29: ='Utgående lager i Sverige'!J22+'Eget lager i utlandet'!H22+'Varufodringar & varuskulder'!F22 -> 0 | D29: ='Lager för andra'!H22 -> 0 | E29: =SUM(B29:C29)-D29 -> 0 | G29: ='Lager för andra -äger inte vara'!H22 -> 0
A31: Hela lagret skall redovisas (ej enbart fastställd lagringsmängd)
A32: Bilaga 1. Eget ägt lager av produkter i Sverige och/eller i utlandet
A33: Bilaga 2. Lager av produkter hos annat företag i Sverige och/eller i utlandet (ni äger inte produkten)
A34: Bilaga 3. Lager för annan lagringsskyldigs räkning och/eller för utländsk lagringsskyldigs räkning (ni äger produkten)
A35: Bilaga 4. Lager för utländsk lagringsskyldigs räkning i Sverige (ni äger inte produkten)
A36: Bilaga 5. Varufordringar och varuskulder (endast oljehandelsföretag)
A37: Bilaga 6. Eventuell brist i lager i förhållande till fastställd lagringsskyldighet
A40: Behörig firmatecknare | D40: Namnförtydligande

Sheet Utgående lager i Sverige
C1: Lagerrapport
A3: Företag
A4: =Lagerrapport!A11 -> 0
A5: Informationsklass: K2
A6: Utgående lager i Sverige
A7: Eget ägt utgående lager i Sverige
J8: Enhet i m3
A9: Depåort | B9: Plats | C9: Motorbensin | D9: Biodrivmedel som ännu ej är inblandad i motorbensin | E9: Flygfotogen | F9: Biodrivmedel som ännu ej är inblandad i flygfotogen | G9: Dbo/eo 1 | H9: Biodrivmedel som ännu ej är inblandad i diesel | I9: Övrig eldningsolja | J9: Råolja
A22: Summa | C22: =SUM(C10:C21) -> 0 | D22: =SUM(D10:D21) -> 0 | E22: =SUM(E10:E21) -> 0 | F22: =SUM(F10:F21) -> 0 | G22: =SUM(G10:G21) -> 0 | H22: =SUM(H10:H21) -> 0 | I22: =SUM(I10:I21) -> 0 | J22: =SUM(J10:J21) -> 0

Sheet Eget lager i utlandet
C1: Lagerrapport
A3: Företag
A4: =Lagerrapport!A11 -> 0
A5: Informationsklass: K2
A6: Eget lager i utlandet
A7: Eget ägt utgående lager i utlandet
H8: Enhet i m3
A9: Företag | B9: Depåort | C9: Plats | D9: Motorbensin | E9: Flygfotogen | F9: Dbo/eo 1 | G9: Övrig eldningsolja | H9: Råolja
A22: Summa | D22: =SUM(D10:D21) -> 0 | E22: =SUM(E10:E21) -> 0 | F22: =SUM(F10:F21) -> 0 | G22: =SUM(G10:G21) -> 0 | H22: =SUM(H10:H21) -> 0

Sheet Varufodringar & varuskulder
C1: Lagerrapport
A3: Företag
A4: =Lagerrapport!A11 -> 0
A5: Informationsklass: K2
A6: Varufordringar och varuskulder (endast oljehandelsföretag)
A8: Varufordringar (+) och varuskulder (-) | F8: Enhet i m3
A9: Lagringsskyldigt företag | B9: Motorbensin | C9: Flygfotogen | D9: Dbo/eo 1 | E9: Övrig eldningsolja | F9: Råolja
A22: Summa | B22: =SUM(B10:B21) -> 0 | C22: =SUM(C10:C21) -> 0 | D22: =SUM(D10:D21) -> 0 | E22: =SUM(E10:E21) -> 0 | F22: =SUM(F10:F21) -> 0

Sheet Lager hos andra
C1: Lagerrapport
A3: Företag
A4: =Lagerrapport!A11 -> 0
A5: Informationsklass: K2
A6: Lager hos annan
A7: Lager av produkter hos annat företag i Sverige och/eller i utlandet (ni äger inte produkten)
G8: Enhet i m3
A9: Företag | B9: Depåort | C9: Plats | D9: Motorbensin | E9: Flygfotogen | F9: Dbo/eo 1 | G9: Övrig eldningsolja
A22: Summa | D22: =SUM(D10:D21) -> 0 | E22: =SUM(E10:E21) -> 0 | F22: =SUM(F10:F21) -> 0 | G22: =SUM(G10:G21) -> 0

Sheet Lager för andra
C1: Lagerrapport
A3: Företag
A4: =Lagerrapport!A11 -> 0
A5: Informationsklass: K2
A6: Lager för andra
A7: Lager för annan lagringsskyldigs räkning och/eller för utländsk lagringsskyldigs räkning (ni äger produkten)
H8: Enhet i m3
A9: Lagringsskyldigt företag | B9: Depåort | C9: Plats | D9: Motorbensin | E9: Flygfotogen | F9: Dbo/eo 1 | G9: Övrig eldningsolja | H9: Råolja
A22: Summa | D22: =SUM(D10:D21) -> 0 | E22: =SUM(E10:E21) -> 0 | F22: =SUM(F10:F21) -> 0 | G22: =SUM(G10:G21) -> 0 | H22: =SUM(H10:H21) -> 0

Sheet Lager för andra -äger inte vara
C1: Lagerrapport
A3: Företag
A4: =Lagerrapport!A11 -> 0
A5: Informationsklass: K2
A6: Lager för andra
A7: Lager för utländsk lagringsskyldigs räkning i Sverige (ni äger inte varan)
H8: Enhet i m3
A9: Lagringsskyldigt företag | B9: Depåort | C9: Plats | D9: Motorbensin | E9: Flygfotogen | F9: Dbo/eo 1 | G9: Övrig eldningsolja | H9: Råolja
A22: Summa | D22: =SUM(D10:D21) -> 0 | E22: =SUM(E10:E21) -> 0 | F22: =SUM(F10:F21) -> 0 | G22: =SUM(G10:G21) -> 0 | H22: =SUM(H10:H21) -> 0

Sheet Brister
D1: Lagerrapport
A3: Företag
A4: =Lagerrapport!A11 -> 0
A5: Informationsklass: K2
A6: Brister
A8: Har ni under månaden haft någon brist i lager i förhållande till fastställd lagringsskyldighet eller avtal om lagring åt annan i Sverige eller inom EU?
A12: Om "Ja", uppge datum, mängd och vilket lagringsbränsle för bristen. Ange även orsak till brist.
A15: Datum | B15: Mängd (m3) | C15: Produkt | D15: Orsak till brist
