BEGIN:VCALENDAR
VERSION:2.0
PRODID:Energimyndigheten.se
CALSCALE:GREGORIAN
METHOD:PUBLISH
BEGIN:VEVENT
DTSTART:20250930T090000
DTEND:20250930T130000
SUMMARY;LANGUAGE=sv:Aktörsdialog 1: Samverkan för resurseffektiv sektorsintegration
LOCATION:Hybrid: Digitalt via Teams och Chalmersplatsen 1, Göteborg
DESCRIPTION:Vill du vara med och växla upp arbetet med energi- och resurseffektiv sektorsintegration? Energimyndigheten och RISE bjuder in till tillfällen för dialog och samverkan under hösten 2025. \n
	\n
	\n
	Energimyndigheten bjuder in till dialog kring effektivt resursutnyttjande, och har gett RISE i uppdrag att facilitera aktörsdialogen. Samtalen ska främja lokal samhällsutveckling och resultera i förslag till konkreta främjandeinsatser för att driva på utvecklingen av energi- och resurseffektiv sektorsintegration. \n
	Målgrupp \n
	Vi vänder oss till dig som deltar i, eller är intresserade av, resurseffektivisering. För att hantera komplexiteten i tvärsektoriella samarbeten krävs samtal mellan offentlig sektor, industriaktörer, branschorganisationer med flera. Bred förankring och samverkan lokalt, regionalt och nationellt är avgörande för effektiva insatser. \n
	Agenda aktörsdialog 1: \n
	\n
	Inflygning och avslutande reflektion från Energimyndigheten \n
	Faciliterade gruppdiskussioner: Vilka möjligheter och utmaningar behöver vi adressera för att växla upp arbetet med energi och resurseffektiv sektorsintegration? \n
	Samtal på scen med Ulrica Johansson, senior affärsutvecklare på Liquid Wind samt Nina Wolf, strategiansvarig cirkulär ekonomi i Göteborgs Stad. \n
	\n
	\n
	Anmälan till aktörsdialog 1 (https://comm.ri.se/b/v?event=2681&ucrc=A77DE3D46A)\n
	\n
	Aktörsdialog 2 \n
	Tid: 16 oktober 2025, kl. 9-13 inklusive lättare lunch\n
	Plats: Digitalt och i Stockholm (hybrid)\n
	Fokus: Vilka insatser krävs för att adressera de behov och utmaningar som identifierades i Aktörsdialog 1? \n
	\n
	Anmälan till aktörsdialog 2 (https://comm.ri.se/b/v?event=2683&ucrc=B9AFA8CB0E)\n
	\n
	Aktörsdialog 3 \n
	Tid: 25 november 2025, kl. 9-13 inklusive lättare lunch\n
	Plats: Digitalt och i Luleå (hybrid)\n
	Fokus: Vilka av insatserna som identifierades i Aktörsdialog 2 ger störst effekt och hur operationaliserar vi dessa? \n
	\n
	Anmälan till aktörsdialog 3 (https://comm.ri.se/b/v?event=2684&ucrc=15B1C5C7D0)\n
	\n
	Mer information \n
	Aktörsdialogerna bygger på varandra, men de läggs upp på sådant sätt att det går bra att enbart delta på en eller två. \n
	\n
	Samverkan för resurseffektiv sektorsintegration (ri.se) (https://www.ri.se/sv/nyheter/kalendarium/samverkan-for-resurseffektiv-sektorsintegration?utm_campaign=Anm%c3%a4lan+till+kommande+dialogtr%c3%a4ffar+om+samverkan+f%c3%b6r+resurseffektiv+sektorsintegration-RISE+inbjudningar+seminarier+och+event&utm_medium=email&utm_source=lime-newsletter)\n
	
X-ALT-DESC;FMTTYPE=text/html:<p>Vill du vara med och v&auml;xla upp arbetet med energi- och resurseffektiv sektorsintegration? Energimyndigheten och RISE bjuder in till tillf&auml;llen f&ouml;r dialog och samverkan under h&ouml;sten 2025.</p>\n
	\n
	\n
	<p>Energimyndigheten bjuder in till dialog kring effektivt resursutnyttjande, och har gett RISE i uppdrag att facilitera akt&ouml;rsdialogen. Samtalen ska fr&auml;mja lokal samh&auml;llsutveckling och resultera i f&ouml;rslag till konkreta fr&auml;mjandeinsatser f&ouml;r att driva p&aring; utvecklingen av energi- och resurseffektiv sektorsintegration.</p>\n
	<h2>M&aring;lgrupp</h2>\n
	<p>Vi v&auml;nder oss till dig som deltar i, eller &auml;r intresserade av, resurseffektivisering. F&ouml;r att hantera komplexiteten i tv&auml;rsektoriella samarbeten kr&auml;vs samtal mellan offentlig sektor, industriakt&ouml;rer, branschorganisationer med flera. Bred f&ouml;rankring och samverkan lokalt, regionalt och nationellt &auml;r avg&ouml;rande f&ouml;r effektiva insatser.&nbsp;</p>\n
	<h2><strong>Agenda akt&ouml;rsdialog 1:</strong></h2>\n
	<ul>\n
	<li>Inflygning och avslutande reflektion fr&aring;n Energimyndigheten</li>\n
	<li>Faciliterade gruppdiskussioner: Vilka m&ouml;jligheter och utmaningar beh&ouml;ver vi adressera f&ouml;r att v&auml;xla upp arbetet med energi och resurseffektiv sektorsintegration?</li>\n
	<li>Samtal p&aring; scen med Ulrica Johansson, senior aff&auml;rsutvecklare p&aring; Liquid Wind samt Nina Wolf, strategiansvarig cirkul&auml;r ekonomi i G&ouml;teborgs Stad.</li>\n
	</ul>\n
	<p><a href="https://comm.ri.se/b/v?event=2681&amp;ucrc=A77DE3D46A">Anm&auml;lan till akt&ouml;rsdialog 1</a></p>\n
	<h2>Akt&ouml;rsdialog 2</h2>\n
	<p><strong>Tid:&nbsp;</strong>16 oktober 2025, kl. 9-13 inklusive l&auml;ttare lunch<br /><strong>Plats:</strong>&nbsp;Digitalt och i Stockholm (hybrid)<br /><strong>Fokus:</strong> Vilka insatser kr&auml;vs f&ouml;r att adressera de behov och utmaningar som identifierades i Akt&ouml;rsdialog 1?</p>\n
	<p><a href="https://comm.ri.se/b/v?event=2683&amp;ucrc=B9AFA8CB0E">Anm&auml;lan till akt&ouml;rsdialog 2</a></p>\n
	<h2>Akt&ouml;rsdialog 3</h2>\n
	<p><strong>Tid:</strong> 25 november 2025, kl. 9-13 inklusive l&auml;ttare lunch<br /><strong>Plats:&nbsp;</strong>Digitalt och i Lule&aring; (hybrid)<br />Fokus: Vilka av insatserna som identifierades i Akt&ouml;rsdialog 2 ger st&ouml;rst effekt och hur operationaliserar vi dessa?</p>\n
	<p><a href="https://comm.ri.se/b/v?event=2684&amp;ucrc=15B1C5C7D0">Anm&auml;lan till akt&ouml;rsdialog 3</a></p>\n
	<h2>Mer information</h2>\n
	<p>Akt&ouml;rsdialogerna bygger p&aring; varandra, men de l&auml;ggs upp p&aring; s&aring;dant s&auml;tt att det g&aring;r bra att enbart delta p&aring; en eller tv&aring;.</p>\n
	<p><a href="https://www.ri.se/sv/nyheter/kalendarium/samverkan-for-resurseffektiv-sektorsintegration?utm_campaign=Anm%c3%a4lan+till+kommande+dialogtr%c3%a4ffar+om+samverkan+f%c3%b6r+resurseffektiv+sektorsintegration-RISE+inbjudningar+seminarier+och+event&amp;utm_medium=email&amp;utm_source=lime-newsletter">Samverkan f&ouml;r resurseffektiv sektorsintegration (ri.se)</a></p>
PRIORITY:3
UID:50891568-2169-42c8-adf2-2d538121a7f220260423T174700
DTSTAMP:20260423T174700
END:VEVENT
END:VCALENDAR
