BEGIN:VCALENDAR
VERSION:2.0
PRODID:Energimyndigheten.se
CALSCALE:GREGORIAN
METHOD:PUBLISH
BEGIN:VEVENT
DTSTART:20240925T090000
DTEND:20240925T113000
SUMMARY;LANGUAGE=sv:Dialogmöte: Landströmsförsörjning av fartyg och infrastruktur för alternativa drivmedel i hamn
LOCATION:Mötet hålls digitalt via Teams
DESCRIPTION:Vilka möjligheter finns för att främja utvecklingen av landströmsförsörjning av fartyg och infrastruktur för alternativa drivmedel i hamn? Vilka hinder behöver undanröjas? Det diskuterar vi på ett dialogmöte den 25 september. \n
	\n
	\n
	Energimyndigheten har fått i uppdrag att bistå regeringen med underlag och bedömningar så att Sverige kan uppfylla de skyldigheter som följer av EU-förordning 2023/1804 om utbyggnad av infrastruktur för alternativa drivmedel (AFIR). Som ett led i arbetet har WSP fått ett uppdrag att kartlägga nuläge vad gäller landströmsförsörjning av fartyg och infrastruktur för alternativa drivmedel i hamn. \n
	Nu bjuder vi in till ett digitalt dialogmöte som kommer att inledas med en presentation av resultatet från WSP:s kartläggning. Syftet är att utifrån kartläggningen diskutera hinder och möjligheter för utbyggnad av denna typ av infrastruktur i hamn, samt vad som behöver göras för att undanröja hinder och främja utvecklingen. Du är välkommen att bidra med synpunkter och inspel. \n
	Vem kan delta? \n
	Mötet riktar sig främst till representanter för hamnar men det är öppet för alla intresserade att delta. Möteslänk kommer att skickas ut till alla anmälda efter att tiden för anmälan gått ut. \n
	Om uppdraget \n
	\n
	Handlingsprogram och lägesrapporter enligt krav i afir (/link/b6fdf91779cf4b00b59336942c62fe3f.aspx)\n
	
X-ALT-DESC;FMTTYPE=text/html:<p>Vilka m&ouml;jligheter finns f&ouml;r att fr&auml;mja utvecklingen av landstr&ouml;msf&ouml;rs&ouml;rjning av fartyg och infrastruktur f&ouml;r alternativa drivmedel i hamn? Vilka hinder beh&ouml;ver undanr&ouml;jas? Det diskuterar vi p&aring; ett dialogm&ouml;te den 25 september.</p>\n
	\n
	\n
	<p>Energimyndigheten har f&aring;tt i uppdrag att bist&aring; regeringen med underlag och bed&ouml;mningar s&aring; att Sverige kan uppfylla de skyldigheter som f&ouml;ljer av EU-f&ouml;rordning 2023/1804 om utbyggnad av infrastruktur f&ouml;r alternativa drivmedel (AFIR). Som ett led i arbetet har WSP f&aring;tt ett uppdrag att kartl&auml;gga nul&auml;ge vad g&auml;ller landstr&ouml;msf&ouml;rs&ouml;rjning av fartyg och infrastruktur f&ouml;r alternativa drivmedel i hamn.</p>\n
	<p>Nu bjuder vi in till ett digitalt dialogm&ouml;te som kommer att inledas med en presentation av resultatet fr&aring;n WSP:s kartl&auml;ggning. Syftet &auml;r att utifr&aring;n kartl&auml;ggningen diskutera hinder och m&ouml;jligheter f&ouml;r utbyggnad av denna typ av infrastruktur i hamn, samt vad som beh&ouml;ver g&ouml;ras f&ouml;r att undanr&ouml;ja hinder och fr&auml;mja utvecklingen. Du &auml;r v&auml;lkommen att bidra med synpunkter och inspel.</p>\n
	<h2>Vem kan delta?</h2>\n
	<p>M&ouml;tet riktar sig fr&auml;mst till representanter f&ouml;r hamnar men det &auml;r &ouml;ppet f&ouml;r alla intresserade att delta. M&ouml;tesl&auml;nk kommer att skickas ut till alla anm&auml;lda efter att tiden f&ouml;r anm&auml;lan g&aring;tt ut.</p>\n
	<h2>Om uppdraget</h2>\n
	<p><a href="/link/b6fdf91779cf4b00b59336942c62fe3f.aspx">Handlingsprogram och l&auml;gesrapporter enligt krav i AFIR</a></p>
PRIORITY:3
UID:c31424a7-1317-4f64-833a-956df8f4cb8220260424T104500
DTSTAMP:20260424T104500
END:VEVENT
END:VCALENDAR
