BEGIN:VCALENDAR
VERSION:2.0
PRODID:Energimyndigheten.se
CALSCALE:GREGORIAN
METHOD:PUBLISH
BEGIN:VEVENT
DTSTART:20241106T090000
DTEND:20241106T113000
SUMMARY;LANGUAGE=sv:Dialogmöten om reviderade hållbarhetskriterier, reduktionsplikt och drivmedelslag
LOCATION:Digitalt via Microsoft Teams
DESCRIPTION:Energimyndigheten bjuder in till 2 dialogmöten den 6 november. Dialogmöten kommer att beröra de kommande ändringarna i svensk lagstiftning till följd av uppdateringen av det reviderade förnybartdirektivet (RED III). \n
	\n
	\n
	Arbetet har påbörjats för att förbereda inför kommande föreskriftändringar och uppdatering av vägledningar. Vi bjuder därför in till dialogmöten för att berätta mer om dessa förändringar och ge möjlighet att ställa frågor eller komma med synpunkter och medskick. Mötena kommer att hållas digitalt via Teams. \n
	Anmäl dig senast den 5 november via respektive länk. \n
	Klockan 09:00-10:00 hålls ett dialogmöte fokuserat på ändringarna kopplat till hållbarhetskriterier. \n
	\n
	Anmäl dig till dialogmöte om reviderade hållbarhetskriterier (https://www.trippus.se/web/registration/Registration.aspx?view=registration&idcategory=AB0ILBCxd_cWRV2nynOH8PIab57TExOlwuRGCBHQC83MiP-xcWmdWlDRExC57ozpz4evAop8TnJ_&ln=swe)\n
	\n
	Klockan 10:30-11:30 hålls ett dialogmöte fokuserat på ändringarna kopplat till drivmedelslag och reduktionsplikt. \n
	\n
	Anmäl dig till dialogmöte om reviderad reduktionsplikt och drivmedelslag (https://www.trippus.se/web/registration/Registration.aspx?view=registration&idcategory=AB0ILBAop8_zu2cH4k57aEPLOnYmunhFMKhQELL43-5fIUTgm2aHPkGdEPF8hZQGXZdV1E0arfG9&ln=swe)\n
	
X-ALT-DESC;FMTTYPE=text/html:<p>Energimyndigheten bjuder in till 2 dialogm&ouml;ten den 6 november. Dialogm&ouml;ten kommer att ber&ouml;ra de kommande &auml;ndringarna i svensk lagstiftning till f&ouml;ljd av uppdateringen av det reviderade f&ouml;rnybartdirektivet (RED III).</p>\n
	\n
	\n
	<p>Arbetet har p&aring;b&ouml;rjats f&ouml;r att f&ouml;rbereda inf&ouml;r kommande f&ouml;reskrift&auml;ndringar och uppdatering av v&auml;gledningar. Vi bjuder d&auml;rf&ouml;r in till dialogm&ouml;ten f&ouml;r att ber&auml;tta mer om dessa f&ouml;r&auml;ndringar och ge m&ouml;jlighet att st&auml;lla fr&aring;gor eller komma med synpunkter och medskick. M&ouml;tena kommer att h&aring;llas digitalt via Teams.</p>\n
	<p>Anm&auml;l dig senast den 5 november via respektive l&auml;nk.</p>\n
	<p>Klockan 09:00-10:00 h&aring;lls ett dialogm&ouml;te fokuserat p&aring; &auml;ndringarna kopplat till h&aring;llbarhetskriterier.</p>\n
	<p><a title="Anm&auml;l dig till dialogm&ouml;te om reviderade h&aring;llbarhetskriterier" href="https://www.trippus.se/web/registration/Registration.aspx?view=registration&amp;idcategory=AB0ILBCxd_cWRV2nynOH8PIab57TExOlwuRGCBHQC83MiP-xcWmdWlDRExC57ozpz4evAop8TnJ_&amp;ln=swe">Anm&auml;l dig till dialogm&ouml;te om reviderade h&aring;llbarhetskriterier</a></p>\n
	<p>Klockan 10:30-11:30 h&aring;lls ett dialogm&ouml;te fokuserat p&aring; &auml;ndringarna kopplat till drivmedelslag och reduktionsplikt.</p>\n
	<p><a title="Anm&auml;l dig till dialogm&ouml;te om reviderad reduktionsplikt och drivmedelslag" href="https://www.trippus.se/web/registration/Registration.aspx?view=registration&amp;idcategory=AB0ILBAop8_zu2cH4k57aEPLOnYmunhFMKhQELL43-5fIUTgm2aHPkGdEPF8hZQGXZdV1E0arfG9&amp;ln=swe">Anm&auml;l dig till dialogm&ouml;te om reviderad reduktionsplikt och drivmedelslag</a></p>
PRIORITY:3
UID:444e26e3-0f71-4c80-9bd1-e0a044b54b6320260420T181300
DTSTAMP:20260420T181300
END:VEVENT
END:VCALENDAR
