BEGIN:VCALENDAR
VERSION:2.0
PRODID:Energimyndigheten.se
CALSCALE:GREGORIAN
METHOD:PUBLISH
BEGIN:VEVENT
DTSTART:20241008T130000
DTEND:20241008T150000
SUMMARY;LANGUAGE=sv:Digitalt aktörsmöte om vätgas
LOCATION:Digitalt via Teams
DESCRIPTION:Under september har vi genomfört aktörsmöten om vätgas på fyra platser i landet. För dig som inte har haft möjlighet att delta på plats erbjuder vi nu ett digitalt möte den 8 oktober. \n
	\n
	\n
	Energimyndigheten har fått i uppdrag att samordna arbetet med vätgas i Sverige. Det innebär att verka för en nära och koordinerad samverkan, dialog och kunskapsspridning, samt att utreda en rad frågor kopplade till vätgasens introduktion i energisystemet. \n
	\n
	Mötet riktar sig främst till marknadsaktörer och myndigheter med fokus på samordningens fortsättning och den slutrapportering som ska lämnas till Regeringskansliet 1 december 2024. \n
	\n
	Det vi kommer att presentera och diskutera är bland annat följande: \n
	\n
	Vad olika myndigheter arbetar med inom vätgasområdet. \n
	Vilka behov och hinder som finns. \n
	Tid för dialog. \n
	\n
	Mer information \n
	\n
	Nationell samordning vätgas (/link/45921674eb154aca8a360b8cbe50209e.aspx)\n
	
X-ALT-DESC;FMTTYPE=text/html:<p><span data-teams="true"><span class="ui-provider a b c d e f g h i j k l m n o p q r s t u v w x y z ab ac ae af ag ah ai aj ak" dir="ltr">Under september har vi genomf&ouml;rt akt&ouml;rsm&ouml;ten om v&auml;tgas p&aring; fyra platser i landet. F&ouml;r dig som inte har haft m&ouml;jlighet att delta p&aring; plats erbjuder vi nu ett digitalt m&ouml;te den 8 oktober.</span></span></p>\n
	\n
	\n
	<div>Energimyndigheten har f&aring;tt i uppdrag att samordna arbetet med v&auml;tgas i Sverige. Det inneb&auml;r att verka f&ouml;r en n&auml;ra och koordinerad samverkan, dialog och kunskapsspridning, samt att utreda en rad fr&aring;gor kopplade till v&auml;tgasens introduktion i energisystemet.</div>\n
	<div>&nbsp;</div>\n
	<div>M&ouml;tet riktar sig fr&auml;mst till marknadsakt&ouml;rer och myndigheter med fokus p&aring; samordningens forts&auml;ttning och den slutrapportering som ska l&auml;mnas till Regeringskansliet 1 december 2024.</div>\n
	<div>&nbsp;</div>\n
	<p>Det vi kommer att presentera och diskutera &auml;r bland annat f&ouml;ljande:</p>\n
	<ul>\n
	<li>Vad olika myndigheter arbetar med inom v&auml;tgasomr&aring;det.</li>\n
	<li>Vilka behov och hinder som finns.</li>\n
	<li>Tid f&ouml;r dialog.</li>\n
	</ul>\n
	<h2>Mer information</h2>\n
	<p><a href="/link/45921674eb154aca8a360b8cbe50209e.aspx">Nationell samordning v&auml;tgas&nbsp;</a></p>
PRIORITY:3
UID:cfae3a2e-55ea-44a5-b960-fb251697403b20260424T104300
DTSTAMP:20260424T104300
END:VEVENT
END:VCALENDAR
