BEGIN:VCALENDAR
VERSION:2.0
PRODID:Energimyndigheten.se
CALSCALE:GREGORIAN
METHOD:PUBLISH
BEGIN:VEVENT
DTSTART:20260424T130000
DTEND:20260424T143000
SUMMARY;LANGUAGE=sv:Drivmedelsberedskap för kommunal reservkraftsförmåga
LOCATION:Digitalt via Teams, länk skickas ut samma dag.
DESCRIPTION:Temaföreläsning där senior rådgivare Mikael Toll ger kommuner praktisk kunskap i hur man ska tänka kring drivmedelsförsörjning kopplat till reservkraft. \n
	\n
	\n
	Hur kan kommuner som vill stärka drivmedelsberedskapen för ökad lokal uthållighet resonera idag? Och vilka planeringsförutsättningar finns? \n
	\n
	Mikael Toll, senior rådgivare med över 25 års erfarenhet av energiberedskap, drivmedelsberedskap och totalförsvar, ger en överblick av aktuella förutsättningar och utmaningar kopplade till drivmedelsberedskap för kommunal reservkraftsförmåga. \n
	Observera att föreläsningen spelas in. \n
	Agenda \n
	\n
	Välkomna och ramverk. \n
	Temaföreläsning med Mikael Toll. \n
	Frågestund och gemensam reflektion. \n
	Information om kunskapsstöd. \n
	Avslutning av det planerade innehållet samt inbjudan att stanna kvar. \n
	Fördjupande dialog med föreläsare och deltagare. \n
	Avslutning. \n
	
X-ALT-DESC;FMTTYPE=text/html:<p>Temaf&ouml;rel&auml;sning d&auml;r senior r&aring;dgivare Mikael Toll ger kommuner praktisk kunskap i hur man ska t&auml;nka kring drivmedelsf&ouml;rs&ouml;rjning kopplat till reservkraft.</p>\n
	\n
	\n
	<div>Hur kan kommuner som vill st&auml;rka drivmedelsberedskapen f&ouml;r &ouml;kad lokal uth&aring;llighet resonera idag? Och vilka planeringsf&ouml;ruts&auml;ttningar finns?</div>\n
	<div>&nbsp;</div>\n
	<div>Mikael Toll, senior r&aring;dgivare med &ouml;ver 25 &aring;rs erfarenhet av energiberedskap, drivmedelsberedskap och totalf&ouml;rsvar, ger en &ouml;verblick av aktuella f&ouml;ruts&auml;ttningar och utmaningar kopplade till drivmedelsberedskap f&ouml;r kommunal reservkraftsf&ouml;rm&aring;ga.</div>\n
	<p>Observera att f&ouml;rel&auml;sningen spelas in.</p>\n
	<h2>Agenda</h2>\n
	<ul>\n
	<li>V&auml;lkomna och ramverk.</li>\n
	<li>Temaf&ouml;rel&auml;sning med Mikael Toll.</li>\n
	<li>Fr&aring;gestund och gemensam reflektion.</li>\n
	<li>Information om kunskapsst&ouml;d.</li>\n
	<li>Avslutning av det planerade inneh&aring;llet samt inbjudan att stanna kvar.</li>\n
	<li>F&ouml;rdjupande dialog med f&ouml;rel&auml;sare och deltagare.</li>\n
	<li>Avslutning.</li>\n
	</ul>
PRIORITY:3
UID:c58bb7c6-57c1-4d7a-9f0e-23538cf84b7e20260419T152400
DTSTAMP:20260419T152400
END:VEVENT
END:VCALENDAR
