BEGIN:VCALENDAR
VERSION:2.0
PRODID:Energimyndigheten.se
CALSCALE:GREGORIAN
METHOD:PUBLISH
BEGIN:VEVENT
DTSTART:20250604T103000
DTEND:20250604T113000
SUMMARY;LANGUAGE=sv:Erfarenheter av att driva laddstationer för tunga fordon
LOCATION:Digitalt
DESCRIPTION:På uppdrag av Energimyndigheten bjuder CIT Renergy in till ett webbinarium för att dela erfarenheter och lärdomar från driftsfasen av laddstationer för tunga transporter. \n
	\n
	\n
	Under våren 2025 har CIT Renergy på uppdrag av Energimyndigheten genomfört en intervjustudie med syfte att fånga upp erfarenheter och lärdomar från driftsfasen för färdigställda laddstationer inom programmet Regionala elektrifieringspiloter. Resultatet från studien presenteras på webbinariet. Du får höra om erfarenheter relaterat till bland annat leveranssäkerhet, teknik, kundsupport, teknisk support, anläggningsområde och feedback från användare. \n
	Webbinariet vänder sig till alla aktörer som vill veta mer om drift av publika laddstationer för tunga fordon. \n
	För mer informtion kontakta \n
	Karin glader (mailto:karin.glader@chalmersindustriteknik.se)\n
	på Chalmers Industriteknik. \n
	\n
	\n
	\n
	\n
	\n
	\n
	
X-ALT-DESC;FMTTYPE=text/html:<p>P&aring; uppdrag av Energimyndigheten bjuder CIT Renergy in till ett webbinarium f&ouml;r att dela erfarenheter och l&auml;rdomar fr&aring;n driftsfasen av laddstationer f&ouml;r tunga transporter.</p>\n
	\n
	\n
	<p>Under v&aring;ren 2025 har CIT Renergy p&aring; uppdrag av Energimyndigheten genomf&ouml;rt en intervjustudie med syfte att f&aring;nga upp erfarenheter och l&auml;rdomar fr&aring;n driftsfasen f&ouml;r f&auml;rdigst&auml;llda laddstationer inom programmet Regionala elektrifieringspiloter. Resultatet fr&aring;n studien presenteras p&aring; webbinariet. Du f&aring;r h&ouml;ra om erfarenheter relaterat till bland annat leveranss&auml;kerhet, teknik, kundsupport, teknisk support, anl&auml;ggningsomr&aring;de och feedback fr&aring;n anv&auml;ndare.</p>\n
	<p>Webbinariet v&auml;nder sig till alla akt&ouml;rer som vill veta mer om drift av publika laddstationer f&ouml;r tunga fordon.</p>\n
	<p>F&ouml;r mer informtion kontakta <a href="mailto:karin.glader@chalmersindustriteknik.se">Karin Glader</a> p&aring; Chalmers Industriteknik.</p>\n
	<div class="___15rnk9z fqerorx fi64zpg fkjuxzh f14vxpf8 feqs2e3 fx5t9de f75fnaf f1qjx3fw f1e58zr1 f1pgj2xc f11o4s80 f1cajj3x f1utrpsi f1vu558l f1xzmj9f f1zw4n f1y66l69 f6t40g3 fm8fxdo fymf8ql fjd71di fuqryco fvho9tq">\n
	<div class="___16rt92x f22iagw f1vx9l62 f1a271xj">\n
	<div class="___1mdw7yc f22iagw f1vx9l62 f2qmhz0">\n
	<p>&nbsp;</p>\n
	</div>\n
	</div>\n
	</div>
PRIORITY:3
UID:113d6dfa-ad1b-458d-b6f9-0a0159d0a4e920260421T123100
DTSTAMP:20260421T123100
END:VEVENT
END:VCALENDAR
