BEGIN:VCALENDAR
VERSION:2.0
PRODID:Energimyndigheten.se
CALSCALE:GREGORIAN
METHOD:PUBLISH
BEGIN:VEVENT
DTSTART:20260319T113000
DTEND:20260319T123000
SUMMARY;LANGUAGE=sv:Flexibla energigemenskaper i Sverige: Integrering av batterilagring och elfordon för framtidens hållbara energisystem
LOCATION:Digitalt
DESCRIPTION:Välkomna på lunchwebbinarium med fokus på resultat från projektet Byggnadsintegrerad energilagring och elektromobilitet för flexibla energigemenskaper: Ett svenskt perspektiv. Det här är den första delen i en webbinarieserie från forsknings- och innovationsprogrammet Resurseffektiv bebyggelse. \n
	\n
	\n
	I ambitionen att växla upp Sveriges energiomställning har energigemenskaper kommit fram som en nyckellösning för att göra energisystemet mer demokratiskt och decentraliserat. \n
	Vilken roll spelar batterilagringssystem (BESS) och laddinfrastruktur för elfordon (EV) i byggnader för flexibla energigemenskaper? Vad vet vi idag, var finns kunskapsluckorna, och finns det sätt att påskynda integreringen i Sverige? \n
	Svar på frågorna ges under detta lunchwebbinarium med utgångspunkt i resultat från projektet \n
	Byggnadsintegrerad energilagring och elektromobilitet för flexibla energigemenskaper: ett svenskt perspektiv (https://resurseffektivbebyggelse.se/projekt/byggnadsintegrerad-energilagring-och-elektromobilitet-for-flexibla-energigemenskaper-ett-svenskt-perspektiv/)\n
	. I det har man kartlagt och dragit slutsatser utifrån en stor mängd tillgänglig litteratur på området. \n
	Granskningen visar på ett snabbt växande men fragmenterat och ojämnt forskningsfält. En del områden har undersökts mer och närmare än andra. Kunskapsluckorna syns tydligast kring hur batterilagring och elfordon kan användas i svenska sammanhang. \n
	Men det finns också flera tydliga vägar framåt. Med hjälp av insatser från forskningen, beslutsfattare, industri samt utvecklare av energigemenskaper går det att minska risken för att värdeskapande möjligheter förbises. \n
	Mer information \n
	\n
	Webbinarium: flexibla energigemenskaper i sverige: integrering av batterilagring och elfordon för framtidens hållbara energisystem (https://events.teams.microsoft.com/event/b05ce3b0-1a4f-44f3-9936-b8154bb61eb9@dee94239-45e5-427e-827a-0cc21e736fec)\n
	\n
	\n
	Programmet resurseffektiv bebyggelse (/link/e9f3ceb678c349b2b1cfb509f6f263e9.aspx)\n
	\n
	Webbinarieserien Torsdagstimmen \n
	Det här är den första delen i en webbinarieserie från Energimyndighetens forsknings- och innovationsprogram Resurseffektiv bebyggelse. Serien fokuserar på hur forskningen utvecklas för några nya resurs- och effektivitetsutmaningar i samhällsbyggnadssektorn. \n
	Utgångspunkten är färska projekt av kartläggningskaraktär som ger en översikt över aktuella kunskapslägen. På så sätt kan framtida forskningsbehov och utmaningsområden identifieras. \n
	Webbinarierna äger rum lunchtid under följande torsdagar: 19 mars, 26 mars, 23 april, 7 maj och 4 juni. Fler tillfällen kan annonseras.
X-ALT-DESC;FMTTYPE=text/html:<p>V&auml;lkomna p&aring; lunchwebbinarium med fokus p&aring; resultat fr&aring;n projektet Byggnadsintegrerad energilagring och elektromobilitet f&ouml;r flexibla energigemenskaper: Ett svenskt perspektiv. Det h&auml;r &auml;r den f&ouml;rsta delen i en webbinarieserie fr&aring;n forsknings- och innovationsprogrammet Resurseffektiv bebyggelse.</p>\n
	\n
	\n
	<p>I ambitionen att v&auml;xla upp Sveriges energiomst&auml;llning har energigemenskaper kommit fram som en nyckell&ouml;sning f&ouml;r att g&ouml;ra energisystemet mer demokratiskt och decentraliserat.</p>\n
	<p>Vilken roll spelar batterilagringssystem (BESS) och laddinfrastruktur f&ouml;r elfordon (EV) i byggnader f&ouml;r flexibla energigemenskaper? Vad vet vi idag, var finns kunskapsluckorna, och finns det s&auml;tt att p&aring;skynda integreringen i Sverige?</p>\n
	<p>Svar p&aring; fr&aring;gorna ges under detta lunchwebbinarium med utg&aring;ngspunkt i resultat fr&aring;n projektet <a href="https://resurseffektivbebyggelse.se/projekt/byggnadsintegrerad-energilagring-och-elektromobilitet-for-flexibla-energigemenskaper-ett-svenskt-perspektiv/">Byggnadsintegrerad energilagring och elektromobilitet f&ouml;r flexibla energigemenskaper: Ett svenskt perspektiv</a>. I det har man kartlagt och dragit slutsatser utifr&aring;n en stor m&auml;ngd tillg&auml;nglig litteratur p&aring; omr&aring;det.</p>\n
	<p>Granskningen visar p&aring; ett snabbt v&auml;xande men fragmenterat och oj&auml;mnt forskningsf&auml;lt. En del omr&aring;den har unders&ouml;kts mer och n&auml;rmare &auml;n andra. Kunskapsluckorna syns tydligast kring hur batterilagring och elfordon kan anv&auml;ndas i svenska sammanhang.</p>\n
	<p>Men det finns ocks&aring; flera tydliga v&auml;gar fram&aring;t. Med hj&auml;lp av insatser fr&aring;n forskningen, beslutsfattare, industri samt utvecklare av energigemenskaper g&aring;r det att minska risken f&ouml;r att v&auml;rdeskapande m&ouml;jligheter f&ouml;rbises.</p>\n
	<h2>Mer information</h2>\n
	<p><a href="https://events.teams.microsoft.com/event/b05ce3b0-1a4f-44f3-9936-b8154bb61eb9@dee94239-45e5-427e-827a-0cc21e736fec">Webbinarium: Flexibla energigemenskaper i Sverige: Integrering av batterilagring och elfordon f&ouml;r framtidens h&aring;llbara energisystem</a></p>\n
	<p><a href="/link/e9f3ceb678c349b2b1cfb509f6f263e9.aspx">Programmet Resurseffektiv bebyggelse</a></p>\n
	<h2>Webbinarieserien&nbsp;Torsdagstimmen</h2>\n
	<p>Det h&auml;r &auml;r den f&ouml;rsta delen i en webbinarieserie fr&aring;n Energimyndighetens forsknings- och innovationsprogram Resurseffektiv bebyggelse. Serien fokuserar p&aring; hur forskningen utvecklas f&ouml;r n&aring;gra nya resurs- och effektivitetsutmaningar i samh&auml;llsbyggnadssektorn.</p>\n
	<p>Utg&aring;ngspunkten &auml;r f&auml;rska projekt av kartl&auml;ggningskarakt&auml;r som ger en &ouml;versikt &ouml;ver aktuella kunskapsl&auml;gen. P&aring; s&aring; s&auml;tt kan framtida forskningsbehov och utmaningsomr&aring;den identifieras.</p>\n
	<p>Webbinarierna &auml;ger rum lunchtid under f&ouml;ljande torsdagar: 19 mars, 26 mars, 23 april, 7 maj och 4 juni. Fler tillf&auml;llen kan annonseras.</p>
PRIORITY:3
UID:01c9a3d8-ada1-4b7b-83a7-7dcfd8365f2620260419T175600
DTSTAMP:20260419T175600
END:VEVENT
END:VCALENDAR
