BEGIN:VCALENDAR
VERSION:2.0
PRODID:Energimyndigheten.se
CALSCALE:GREGORIAN
METHOD:PUBLISH
BEGIN:VEVENT
DTSTART:20241211T114500
DTEND:20241211T124500
SUMMARY;LANGUAGE=sv:IEA:s rapport Energy Technology Perspectives 2024
LOCATION:Digitalt via Teams
DESCRIPTION:Araceli Fernandez Pales från International Energy Agency (IEA) presenterar rapporten Energy Technology Perspectives 2024 under ett lunchseminarium. Deltar gör också Per-Anders Widell, Programme Manager från IEA. \n
	\n
	\n
	International Energy Agency (IEA) lanserade flaggskeppsrapporten Energy Technology Perspectives 2024 den 30 oktober. Energimyndigheten har bjudit in Araceli Fernandez Pales, Head of Technology Innovation Unit från IEA att presentera rapporten. Deltar gör också Per-Anders Widell, Programme Manager från IEA. \n
	Seminariet hålls på engelska. \n
	Efter presentationen kommer det att finnas möjlighet att ställa frågor. Om du redan nu har frågor kan du maila dem till \n
	Lisa.lundmark@energimyndigheten.se (mailto:lisa.lundmark@energimyndigheten.se)\n
	\n
	Mer om rapporten \n
	Läs mer om rapporten på IEA:s webbplats och se lanseringen på Youtube. \n
	\n
	Energy technology perspectives 2024 (iea.org) (https://www.iea.org/reports/energy-technology-perspectives-2024)\n
	\n
	\n
	Energy technology perspectives 2024 (youtube.com) (https://www.youtube.com/watch?v=iQm_B44FG9U)\n
	
X-ALT-DESC;FMTTYPE=text/html:<p>Araceli Fernandez Pales fr&aring;n International Energy Agency (IEA) presenterar rapporten&nbsp;Energy Technology Perspectives 2024 under ett lunchseminarium. Deltar g&ouml;r ocks&aring; Per-Anders Widell, Programme Manager fr&aring;n IEA.</p>\n
	\n
	\n
	<p>International Energy Agency (IEA) lanserade flaggskeppsrapporten Energy Technology Perspectives 2024 den 30 oktober. Energimyndigheten har bjudit in Araceli Fernandez Pales, Head of Technology Innovation Unit fr&aring;n&nbsp;IEA att presentera rapporten. Deltar g&ouml;r ocks&aring; Per-Anders Widell, Programme Manager fr&aring;n&nbsp;IEA.</p>\n
	<p>Seminariet h&aring;lls p&aring; engelska.</p>\n
	<p>Efter presentationen kommer det att finnas m&ouml;jlighet att st&auml;lla fr&aring;gor. Om du redan nu har fr&aring;gor kan du maila dem till&nbsp;<a href="mailto:lisa.lundmark@energimyndigheten.se">lisa.lundmark@energimyndigheten.se</a></p>\n
	<h2>Mer om rapporten</h2>\n
	<p>L&auml;s mer om rapporten p&aring; IEA:s webbplats och se lanseringen p&aring; Youtube.</p>\n
	<p><a href="https://www.iea.org/reports/energy-technology-perspectives-2024">Energy Technology Perspectives 2024 (iea.org)</a></p>\n
	<p><a href="https://www.youtube.com/watch?v=iQm_B44FG9U">Energy Technology Perspectives 2024 (youtube.com)</a></p>
PRIORITY:3
UID:8647017a-064c-4bcb-89e2-4c70e79a04de20260421T122400
DTSTAMP:20260421T122400
END:VEVENT
END:VCALENDAR
