BEGIN:VCALENDAR
VERSION:2.0
PRODID:Energimyndigheten.se
CALSCALE:GREGORIAN
METHOD:PUBLISH
BEGIN:VEVENT
DTSTART:20260506T083000
DTEND:20260506T093000
SUMMARY;LANGUAGE=sv:Impact Innovation: att mobilisera banbrytande innovation
LOCATION:Digitalt
DESCRIPTION:Seminariet presenterar Impact Innovations tidiga resultat och lärdomar för hållbar omställning, konkurrenskraft och resiliens. \n
	\n
	\n
	Detta seminarium vänder sig till alla som är intresserade av storskaliga systemomvandlingar. Fokus ligger på hur sådana omvandlingar kan stödja beslutsfattande och policyutveckling för långsiktig förändring. \n
	Medverkande: \n
	\n
	Cecilia Ramberg, vice programchef, Net Zero Industry. \n
	John Hultén, programchef, ShiftSweden. \n
	Mariell Juhlin, programchef, SustainGov. \n
	Magnus Arnell, programchef, Water Wise Societies. \n
	Lawrence Hooey, Head of Technical Innovation, Swedish Metals and Minerals. \n
	Niclas Dahlström, Head of Social Innovation, Swedish Metals and Minerals. \n
	\n
	Seminariet gästas även av två ledande internationella experter inom storskalig systeminnovation: Alejandra (Sandra) Boni, Universitat Politècnica de València och Philippe Larrue, OECD Mission Action Lab. \n
	Moderator: Jenny Engström, Team Lead, Impact Innovation Accelerator. \n
	\n
	Information om seminariet och anmälan (ui.ungpd.com) (https://ui.ungpd.com/Events/d76807f6-aee3-4979-88a7-127343330c0f)\n
	\n
	Om Impact Innovation \n
	Impact Innovation är ett initiativ av Energimyndigheten, Formas och Vinnova och Sveriges stora innovationssatsning för 2030-talet. Impact innovation är en kraftsamling där aktörer från näringsliv, akademi, offentlig sektor och civilsamhälle går samman för att möta vår tids och framtidens samhällsutmaningar.
X-ALT-DESC;FMTTYPE=text/html:<p>Seminariet presenterar Impact Innovations tidiga resultat och l&auml;rdomar f&ouml;r h&aring;llbar omst&auml;llning, konkurrenskraft och resiliens.</p>\n
	\n
	\n
	<div>Detta seminarium v&auml;nder sig till alla som &auml;r intresserade av storskaliga systemomvandlingar. Fokus ligger p&aring; hur s&aring;dana omvandlingar kan st&ouml;dja beslutsfattande och policyutveckling f&ouml;r l&aring;ngsiktig f&ouml;r&auml;ndring.</div>\n
	<h2>Medverkande:</h2>\n
	<ul>\n
	<li>Cecilia Ramberg, vice programchef, Net Zero Industry.</li>\n
	<li>John Hult&eacute;n, programchef, ShiftSweden.</li>\n
	<li>Mariell Juhlin, programchef, SustainGov.</li>\n
	<li>Magnus Arnell, programchef, Water Wise Societies.</li>\n
	<li>Lawrence Hooey, Head of Technical Innovation, Swedish Metals and Minerals.</li>\n
	<li>Niclas Dahlstr&ouml;m, Head of Social Innovation, Swedish Metals and Minerals.</li>\n
	</ul>\n
	<p>Seminariet g&auml;stas &auml;ven av tv&aring; ledande internationella experter inom storskalig systeminnovation: Alejandra (Sandra) Boni, Universitat Polit&egrave;cnica de Val&egrave;ncia och Philippe Larrue, OECD Mission Action Lab.</p>\n
	<p>Moderator: Jenny Engstr&ouml;m, Team Lead, Impact Innovation Accelerator.</p>\n
	<p><a href="https://ui.ungpd.com/Events/d76807f6-aee3-4979-88a7-127343330c0f">Information om seminariet och anm&auml;lan (ui.ungpd.com)</a></p>\n
	<h2>Om Impact Innovation</h2>\n
	<p>Impact Innovation &auml;r ett initiativ av Energimyndigheten, Formas och Vinnova och Sveriges stora innovationssatsning f&ouml;r 2030-talet. Impact innovation &auml;r en kraftsamling d&auml;r akt&ouml;rer fr&aring;n n&auml;ringsliv, akademi, offentlig sektor och civilsamh&auml;lle g&aring;r samman f&ouml;r att m&ouml;ta v&aring;r tids och framtidens samh&auml;llsutmaningar.</p>
PRIORITY:3
UID:1d370679-12c5-4180-9677-b702e32359cd20260420T173000
DTSTAMP:20260420T173000
END:VEVENT
END:VCALENDAR
