BEGIN:VCALENDAR
VERSION:2.0
PRODID:Energimyndigheten.se
CALSCALE:GREGORIAN
METHOD:PUBLISH
BEGIN:VEVENT
DTSTART:20250429T100000
DTEND:20250429T110000
SUMMARY;LANGUAGE=sv:Informationsmöte: Utlysning regionala elektrifieringspiloter
LOCATION:Digitalt
DESCRIPTION:Välkommen till ett informationsmöte vårt stöd till er som vill bygga laddningsstationer för tunga fordon. \n
	\n
	\n
	Vi informerar om vårt stöd till er som vill bygga laddningsstationer för tunga fordon. Den här gången kan ni bygga vid fastigheter som fyller en viktig funktions för bl lastning, lossning, byte av fordonsslag med mera. \n
	På mötet informerar vi om krav, villkor, förutsättningar och ger lite tips inför din ansökan. Mötet avslutas med en frågestund. \n
	Ingen föranmälan krävs, anslut direkt till mötet via länken. \n
	\n
	Anslut till mötet via teams (https://teams.microsoft.com/l/meetup-join/19%3ameeting_YTkxZjY1YmEtZjI2MS00YjQ3LTlmN2UtNzQ2MWM1NzgxMjc4%40thread.v2/0?context=%7b%22Tid%22%3a%225c1948b3-a986-4850-83f2-465965c36ca1%22%2c%22Oid%22%3a%225015ece2-c5ba-4dd5-98e5-eb14c9efdcee%22%7d)\n
	\n
	Om utlysningen \n
	Energimyndigheten utlyser högst 400 miljoner kronor till utbyggnad av laddinfrastruktur för tunga vägtransporter vid terminaler, lager, återvinningscentraler och liknande platser som är öppna för tillträde för alla transportörer som har ett ärende på platsen. \n
	\n
	Regionala elektrifieringspiloter för tunga transporter (/link/ef923191f9d04c4a855e15e9a706e660.aspx)\n
	
X-ALT-DESC;FMTTYPE=text/html:<p>V&auml;lkommen till ett informationsm&ouml;te v&aring;rt st&ouml;d till er som vill bygga laddningsstationer f&ouml;r tunga fordon.</p>\n
	\n
	\n
	<p>Vi informerar om v&aring;rt st&ouml;d till er som vill bygga laddningsstationer f&ouml;r tunga fordon. Den h&auml;r g&aring;ngen kan ni bygga vid fastigheter som fyller en viktig funktions f&ouml;r bl lastning, lossning, byte av fordonsslag med mera.</p>\n
	<p>P&aring; m&ouml;tet informerar vi om krav, villkor, f&ouml;ruts&auml;ttningar och ger lite tips inf&ouml;r din ans&ouml;kan. M&ouml;tet avslutas med en fr&aring;gestund.</p>\n
	<p>Ingen f&ouml;ranm&auml;lan kr&auml;vs, anslut direkt till m&ouml;tet via l&auml;nken.</p>\n
	<p><a href="https://teams.microsoft.com/l/meetup-join/19%3ameeting_YTkxZjY1YmEtZjI2MS00YjQ3LTlmN2UtNzQ2MWM1NzgxMjc4%40thread.v2/0?context=%7b%22Tid%22%3a%225c1948b3-a986-4850-83f2-465965c36ca1%22%2c%22Oid%22%3a%225015ece2-c5ba-4dd5-98e5-eb14c9efdcee%22%7d" target="_blank" rel="noopener">Anslut till m&ouml;tet via Teams</a></p>\n
	<h2>Om utlysningen</h2>\n
	<p>Energimyndigheten utlyser h&ouml;gst 400 miljoner kronor till utbyggnad av laddinfrastruktur f&ouml;r tunga v&auml;gtransporter vid terminaler, lager, &aring;tervinningscentraler och liknande platser som &auml;r &ouml;ppna f&ouml;r tilltr&auml;de f&ouml;r alla transport&ouml;rer som har ett &auml;rende p&aring; platsen.</p>\n
	<p><a href="/link/ef923191f9d04c4a855e15e9a706e660.aspx">Regionala elektrifieringspiloter f&ouml;r tunga transporter</a></p>
PRIORITY:3
UID:786b04ea-f543-4ca0-b31d-8e87d434056320260422T041700
DTSTAMP:20260422T041700
END:VEVENT
END:VCALENDAR
