BEGIN:VCALENDAR
VERSION:2.0
PRODID:Energimyndigheten.se
CALSCALE:GREGORIAN
METHOD:PUBLISH
BEGIN:VEVENT
DTSTART:20260410T100000
DTEND:20260410T110000
SUMMARY;LANGUAGE=sv:Informationstillfälle om den andra utlysningen inom bio-CCS
LOCATION:Digitalt via Teams.
DESCRIPTION:Digitalt informationstillfälle om den andra omvända auktionen för investerings- och driftstöd till bio-CCS. \n
	\n
	\n
	Välkomna till digitalt informationstillfälle om den andra omvända auktionen för investerings- och driftstöd till bio-CCS. \n
	Energimyndigheten planerar för återkommande digitala informationstillfällen under utlysningsperioden för att tydliggöra svar på frågor som inkommit. \n
	Skicka era frågor till vår funktionsbrevlåda \n
	Ccs@energimyndigheten.se (mailto:CCS@energimyndigheten.se)\n
	eller via TendSign senast den 1 april. \n
	Länk till mötet \n
	\n
	Teams-möte (https://teams.microsoft.com/meet/31965741785617?p=Ja6bgpSRCJbwq4pbUO)\n
	\n
	Ingen anmälan krävs. \n
	Mer information \n
	Presentationen som visas kommer delas i efterhand på utlysningssidan. \n
	\n
	Investerings- och driftstöd för bio-ccs genom omvänd auktion (/link/1ce4d4a0b4ac40a1b8fc944676190ed5.aspx)\n
	
X-ALT-DESC;FMTTYPE=text/html:<p>Digitalt informationstillf&auml;lle om den andra omv&auml;nda auktionen f&ouml;r investerings- och driftst&ouml;d till bio-CCS.</p>\n
	\n
	\n
	<p>V&auml;lkomna till digitalt informationstillf&auml;lle om den andra omv&auml;nda auktionen f&ouml;r investerings- och driftst&ouml;d till bio-CCS.</p>\n
	<p>Energimyndigheten planerar f&ouml;r &aring;terkommande digitala informationstillf&auml;llen under utlysningsperioden f&ouml;r att tydligg&ouml;ra svar p&aring; fr&aring;gor som inkommit.</p>\n
	<p>Skicka era fr&aring;gor till v&aring;r funktionsbrevl&aring;da <a href="mailto:CCS@energimyndigheten.se">CCS@energimyndigheten.se</a> eller via TendSign senast den 1 april.</p>\n
	<h2>L&auml;nk till m&ouml;tet</h2>\n
	<p><a href="https://teams.microsoft.com/meet/31965741785617?p=Ja6bgpSRCJbwq4pbUO">Teams-m&ouml;te</a></p>\n
	<p>Ingen anm&auml;lan kr&auml;vs.</p>\n
	<h2>Mer information</h2>\n
	<p>Presentationen som visas kommer delas i efterhand p&aring; utlysningssidan.</p>\n
	<p><a href="/link/1ce4d4a0b4ac40a1b8fc944676190ed5.aspx">Investerings- och driftst&ouml;d f&ouml;r bio-CCS genom omv&auml;nd auktion</a></p>
PRIORITY:3
UID:4ef763bd-49bb-466d-ad2e-4b47e0b8e75e20260424T104200
DTSTAMP:20260424T104200
END:VEVENT
END:VCALENDAR
