BEGIN:VCALENDAR
VERSION:2.0
PRODID:Energimyndigheten.se
CALSCALE:GREGORIAN
METHOD:PUBLISH
BEGIN:VEVENT
DTSTART:20230511T133000
DTEND:20230511T150000
SUMMARY;LANGUAGE=sv:Lansera internationellt – informationsträff Göteborg
LOCATION:Elite Park Aveny, Kungsportsavenyen 36, Göteborg
DESCRIPTION:Vi kommer till Göteborg för att berätta om allt du behöver veta kopplat till våra internationella företagsacceleratorer. Välkommen! \n
	\n
	\n
	Under träffarna kommer du få veta mer om våra program för Indien, Sydostasien, Tyskland, USA samt vår globala innovationsaccelerator. Dessutom får du ta del av vad tidigare deltagare tycker om programmen, vilka möjligheter det skapat för dem och senaste nytt från marknaderna. \n
	Träffen arrangeras av Energimyndigheten, Business Sweden och Tysk-svenska Handelskammaren. \n
	\n
	Mer information om våra internationella acceleratorprogram (/link/0d428c3f368a40099fc592ec72af1176.aspx)\n
	
X-ALT-DESC;FMTTYPE=text/html:<p>Vi kommer till G&ouml;teborg f&ouml;r att ber&auml;tta om allt du beh&ouml;ver veta kopplat till v&aring;ra internationella f&ouml;retagsacceleratorer. V&auml;lkommen!</p>\n
	\n
	\n
	<p>Under tr&auml;ffarna kommer du f&aring; veta mer om v&aring;ra program f&ouml;r Indien, Sydostasien, Tyskland, USA samt v&aring;r globala innovationsaccelerator. Dessutom f&aring;r du ta del av vad tidigare deltagare tycker om programmen, vilka m&ouml;jligheter det skapat f&ouml;r dem och senaste nytt fr&aring;n marknaderna.</p>\n
	<p>Tr&auml;ffen arrangeras av Energimyndigheten, Business Sweden och Tysk-svenska Handelskammaren.</p>\n
	<p><a title="Mer information om v&aring;ra internationella acceleratorprogram" href="/link/0d428c3f368a40099fc592ec72af1176.aspx">Mer information om v&aring;ra internationella acceleratorprogram</a></p>
PRIORITY:3
UID:0e562df2-6189-4d04-bf7f-8ccb4097dff620260421T211500
DTSTAMP:20260421T211500
END:VEVENT
END:VCALENDAR
