BEGIN:VCALENDAR
VERSION:2.0
PRODID:Energimyndigheten.se
CALSCALE:GREGORIAN
METHOD:PUBLISH
BEGIN:VEVENT
DTSTART:20230512T080000
DTEND:20230512T093000
SUMMARY;LANGUAGE=sv:Lansera internationellt – informationsträff Malmö
LOCATION:Almi, Gustav Adolfs torg 8A, Malmö
DESCRIPTION:Vi kommer till Malmö för att berätta om allt du behöver veta kopplat till våra internationella företagsacceleratorer. Välkommen! \n
	\n
	\n
	Under träffarna kommer du få veta mer om våra program för Indien, Sydostasien, Tyskland, USA samt vår globala innovationsaccelerator. Dessutom får du ta del av vad tidigare deltagare tycker om programmen, vilka möjligheter det skapat för dem och senaste nytt från marknaderna. \n
	Träffen arrangeras av Energimyndigheten, Business Sweden och Tysk-svenska Handelskammaren. \n
	\n
	Mer information om våra internationella acceleratorprogram (/link/0d428c3f368a40099fc592ec72af1176.aspx)\n
	
X-ALT-DESC;FMTTYPE=text/html:<p>Vi kommer till Malm&ouml; f&ouml;r att ber&auml;tta om allt du beh&ouml;ver veta kopplat till v&aring;ra internationella f&ouml;retagsacceleratorer. V&auml;lkommen!</p>\n
	\n
	\n
	<p>Under tr&auml;ffarna kommer du f&aring; veta mer om v&aring;ra program f&ouml;r Indien, Sydostasien, Tyskland, USA samt v&aring;r globala innovationsaccelerator. Dessutom f&aring;r du ta del av vad tidigare deltagare tycker om programmen, vilka m&ouml;jligheter det skapat f&ouml;r dem och senaste nytt fr&aring;n marknaderna.</p>\n
	<p>Tr&auml;ffen arrangeras av Energimyndigheten, Business Sweden och Tysk-svenska Handelskammaren.</p>\n
	<p><a title="Mer information om v&aring;ra internationella acceleratorprogram" href="/link/0d428c3f368a40099fc592ec72af1176.aspx">Mer information om v&aring;ra internationella acceleratorprogram</a></p>
PRIORITY:3
UID:42ec6e1a-9edb-410b-816f-50059437a9e120260421T212700
DTSTAMP:20260421T212700
END:VEVENT
END:VCALENDAR
