BEGIN:VCALENDAR
VERSION:2.0
PRODID:Energimyndigheten.se
CALSCALE:GREGORIAN
METHOD:PUBLISH
BEGIN:VEVENT
DTSTART:20230510T080000
DTEND:20230510T093000
SUMMARY;LANGUAGE=sv:Lansera internationellt – informationsträff Stockholm
LOCATION:Business Sweden, World Trade Center, Klarabergsviadukten 70, Stockholm
DESCRIPTION:Vi kommer till Stockholm för att berätta om allt du behöver veta kopplat till våra internationella företagsacceleratorer. Frukost ingår. Välkommen! \n
	\n
	\n
	Under träffarna kommer du få veta mer om våra program för Indien, Sydostasien, Tyskland, USA samt vår globala innovationsaccelerator. Dessutom får du ta del av vad tidigare deltagare tycker om programmen, vilka möjligheter det skapat för dem och senaste nytt från marknaderna. \n
	Träffen arrangeras av Energimyndigheten, Business Sweden och Tysk-svenska Handelskammaren. \n
	\n
	Mer information om våra internationella acceleratorprogram (/link/0d428c3f368a40099fc592ec72af1176.aspx)\n
	
X-ALT-DESC;FMTTYPE=text/html:<p>Vi kommer till Stockholm f&ouml;r att ber&auml;tta om allt du beh&ouml;ver veta kopplat till v&aring;ra internationella f&ouml;retagsacceleratorer. Frukost ing&aring;r. V&auml;lkommen!</p>\n
	\n
	\n
	<p>Under tr&auml;ffarna kommer du f&aring; veta mer om v&aring;ra program f&ouml;r Indien, Sydostasien, Tyskland, USA samt v&aring;r globala innovationsaccelerator. Dessutom f&aring;r du ta del av vad tidigare deltagare tycker om programmen, vilka m&ouml;jligheter det skapat f&ouml;r dem och senaste nytt fr&aring;n marknaderna.</p>\n
	<p>Tr&auml;ffen arrangeras av Energimyndigheten, Business Sweden och Tysk-svenska Handelskammaren.</p>\n
	<p><a href="/link/0d428c3f368a40099fc592ec72af1176.aspx">Mer information om v&aring;ra internationella acceleratorprogram</a> </p>
PRIORITY:3
UID:7cadc684-cbdf-4e34-a911-bcc3e63cbfbe20260421T212900
DTSTAMP:20260421T212900
END:VEVENT
END:VCALENDAR
