BEGIN:VCALENDAR
VERSION:2.0
PRODID:Energimyndigheten.se
CALSCALE:GREGORIAN
METHOD:PUBLISH
BEGIN:VEVENT
DTSTART:20250325T130000
DTEND:20250325T140000
SUMMARY;LANGUAGE=sv:Seminarium om nya kortsiktsprognosen och de nya långsiktiga scenarierna
LOCATION:Digitalt
DESCRIPTION:Hur ser elbehovet ut om 30 år? Vilka villkor kommer svensk kraft- och fjärrvärme ha om 20 år? Och hur kommer den svenska energimixen att förändras de kommande decennierna? \n
	\n
	\n
	Välkommen på ett digitalt seminarium om Energimyndighetens nya kortsiktiga prognos och nya scenarier över framtidens energisystem. \n
	Energifrågorna är centrala i vårt samhälle. För att lyckas med viktiga framtidsfrågor, som elektrifiering av transportsektorn och utbyggnad av elnät är det avgörande att beslutsfattare inom politik, offentlig sektor och näringslivet utgår från samma objektiva faktaunderlag. Energimyndigheten har just det faktaunderlaget. \n
	Om våra prognoser och scenarier \n
	Två gånger om året tar vi fram en kortsiktig prognos över energianvändning och energitillförsel. \n
	Vartannat år publicerar vi nya långsiktiga scenarier. Våra prognoser och scenarier är en tillförlitlig källa för att få en realistisk bild av framtidens energisystem och möjliga utvecklingsvägar. \n
	Vi förklarar resultaten \n
	För att skapa förståelse för underlagen och hur de kan användas bjuder vi in till ett seminarie där vi förklarar resultaten, vad de visar och hur underlagen används på bästa sätt. \n
	Efter det följer ett panelsamtal om framtidens energisystem med: \n
	Caroline Asserup - tillförordad generaldirektör på Energimyndigheten\n
	Gustav Ebenå - avdelningschef Systemanalys och statistik\n
	Maria Westrin – enhetschef Energimarknader\n
	Martin Johansson – enhetschef Prognos och scenarier. \n
	Moderator är Ella Kilim, Energimyndigheten \n
	Anmälan och deltagande \n
	Seminariet är kostnadsfritt och öppet för alla. Det kommer att sändas på Energimyndighetens Youtubekanal. \n
	CTA: webbinarium
X-ALT-DESC;FMTTYPE=text/html:<p>Hur ser elbehovet ut om 30 &aring;r? Vilka villkor kommer svensk kraft- och fj&auml;rrv&auml;rme ha om 20 &aring;r? Och hur kommer den svenska energimixen att f&ouml;r&auml;ndras de kommande decennierna?</p>\n
	\n
	\n
	<p>V&auml;lkommen&nbsp;p&aring; ett digitalt seminarium om Energimyndighetens nya kortsiktiga prognos och nya scenarier &ouml;ver framtidens energisystem.</p>\n
	<p class="bread">Energifr&aring;gorna &auml;r centrala i v&aring;rt samh&auml;lle. F&ouml;r att lyckas med viktiga framtidsfr&aring;gor, som elektrifiering av transportsektorn och utbyggnad av eln&auml;t &auml;r det avg&ouml;rande att beslutsfattare inom politik, offentlig sektor och n&auml;ringslivet utg&aring;r fr&aring;n samma objektiva faktaunderlag. Energimyndigheten har just det faktaunderlaget.</p>\n
	<h2 class="bread">Om v&aring;ra prognoser och scenarier</h2>\n
	<p class="bread">Tv&aring; g&aring;nger om &aring;ret tar vi fram en kortsiktig prognos &ouml;ver energianv&auml;ndning och energitillf&ouml;rsel.</p>\n
	<p class="bread">Vartannat &aring;r publicerar vi nya l&aring;ngsiktiga scenarier. V&aring;ra prognoser och scenarier &auml;r en tillf&ouml;rlitlig k&auml;lla f&ouml;r att f&aring; en realistisk bild av framtidens energisystem och m&ouml;jliga utvecklingsv&auml;gar.</p>\n
	<h2 class="bread">Vi f&ouml;rklarar resultaten</h2>\n
	<p class="bread">F&ouml;r att skapa f&ouml;rst&aring;else f&ouml;r underlagen och hur de kan anv&auml;ndas bjuder vi in till ett seminarie d&auml;r vi f&ouml;rklarar resultaten, vad de visar och hur underlagen anv&auml;nds p&aring; b&auml;sta s&auml;tt.</p>\n
	<p class="bread">Efter det f&ouml;ljer ett panelsamtal om framtidens energisystem med:</p>\n
	<p class="bread"><strong>Caroline Asserup</strong>&nbsp;- tillf&ouml;rordad generaldirekt&ouml;r p&aring; Energimyndigheten<br /><strong>Gustav Eben&aring;</strong>&nbsp;- avdelningschef Systemanalys och statistik<br /><strong>Maria Westrin</strong>&nbsp;&ndash; enhetschef Energimarknader<br /><strong>Martin Johansson</strong>&nbsp;&ndash; enhetschef Prognos och scenarier.</p>\n
	<p class="bread">Moderator &auml;r Ella Kilim, Energimyndigheten</p>\n
	<h2 class="bread">Anm&auml;lan och deltagande</h2>\n
	<p class="bread">Seminariet &auml;r kostnadsfritt och &ouml;ppet f&ouml;r alla. Det kommer att s&auml;ndas p&aring; Energimyndighetens Youtubekanal.</p>\n
	<div class="epi-contentfragment">CTA: webbinarium</div>
PRIORITY:3
UID:a664d7ed-dedb-423d-87d9-cebc731dc1b220260424T104400
DTSTAMP:20260424T104400
END:VEVENT
END:VCALENDAR
