BEGIN:VCALENDAR
VERSION:2.0
PRODID:Energimyndigheten.se
CALSCALE:GREGORIAN
METHOD:PUBLISH
BEGIN:VEVENT
DTSTART:20250624T100000
DTEND:20250624T111500
SUMMARY;LANGUAGE=sv:Webbinarium  om ändringar i regelverket för ursprungsgarantier
LOCATION:Digitalt via Microsoft Teams
DESCRIPTION:Under maj 2025 remitterade regeringen förslag på en förordning om ursprungsgarantier för energi. Energimyndigheten remitterade den 12 juni 2025 tillhörande förslag på föreskrifter. Med anledning av detta bjuder Energimyndigheten in till ett webbinarium. \n
	\n
	\n
	Webbinariet hålls tisdagen den 24 juni 2025, klockan 10-11:15. Webbinariet riktar sig till dig som idag får ursprungsgarantier för el eller som är intresserad av ursprungsgarantier för gas, värme eller kyla. \n
	Energimyndigheten kommer att presentera de huvudsakliga ändringarna i regelverket för ursprungsgarantier. Det kommer finnas möjlighet att ställa frågor i chatten. \n
	
X-ALT-DESC;FMTTYPE=text/html:<p>Under maj 2025 remitterade regeringen f&ouml;rslag p&aring; en f&ouml;rordning om ursprungsgarantier f&ouml;r energi. Energimyndigheten remitterade den 12 juni 2025 tillh&ouml;rande f&ouml;rslag p&aring; f&ouml;reskrifter. Med anledning av detta bjuder Energimyndigheten in till ett webbinarium.</p>\n
	\n
	\n
	<p>Webbinariet h&aring;lls tisdagen den 24 juni 2025, klockan 10-11:15. Webbinariet riktar sig till dig som idag f&aring;r ursprungsgarantier f&ouml;r el eller som &auml;r intresserad av ursprungsgarantier f&ouml;r gas, v&auml;rme eller kyla.</p>\n
	<p>Energimyndigheten kommer att presentera de huvudsakliga &auml;ndringarna i regelverket f&ouml;r ursprungsgarantier. Det kommer finnas m&ouml;jlighet att st&auml;lla fr&aring;gor i chatten.</p>\n
	<p>&nbsp;</p>
PRIORITY:3
UID:e08c4a88-2634-4223-acde-a07afa2a37e720260421T052100
DTSTAMP:20260421T052100
END:VEVENT
END:VCALENDAR
