BEGIN:VCALENDAR
VERSION:2.0
PRODID:Energimyndigheten.se
CALSCALE:GREGORIAN
METHOD:PUBLISH
BEGIN:VEVENT
DTSTART:20251217T100000
DTEND:20251217T113000
SUMMARY;LANGUAGE=sv:Webbinarium: Uppdrag om förslag på stöd för fossilfri sjöfart och luftfart
LOCATION:Digitalt
DESCRIPTION:Den 17 december bjuder vi in till ett webbinarium om regeringsuppdraget att föreslå stöd för att främja sjöfartens och luftfartens omställning till fossilfrihet. \n
	\n
	\n
	Under webbinariet kommer preliminära slutsatser och förslag att presenteras. Det kommer också finnas möjlighet att ställa frågor eller komma med synpunkter. Syftet med uppdraget är att på ett effektivt sätt påskynda transportsektorns omställning. \n
	I uppdraget ingår att: \n
	\n
	analysera behovet av stöd för att främja sjöfartens och luftfartens omställning till fossilfrihet \n
	föreslå utformning av stöd för att främja sjöfartens användning av fossilfria energibärare, inklusive konvertering av fartyg till alternativa drivlinor \n
	analysera förutsättningar för och föreslå utformning av stöd för en marknadsintroduktion av flyg som helt eller delvis drivs med el. \n
	\n
	Uppdraget ska slutredovisas 1 februari 2026. \n
	\n
	Uppdrag att analysera och föreslå hur stöd för att främja sjöfartens och luftfartens omställning till fossilfrihet kan utformas (pdf, regeringen.se) (https://www.regeringen.se/contentassets/2cef4bb6af044eaaba4c8db2ab57997e/uppdrag-till-statens-energimyndighet-att-analysera-och-foresla-hur-stod-for-att-framja-sjofartens-och-luftfartens-omstallning-till-fossilfrihet-kan-utformas.pdf)\n
	\n
	Möteslänk \n
	\n
	Delta i webbinariet den 17 december (https://teams.microsoft.com/l/meetup-join/19%3ameeting_ODgxN2YwODUtZDljMC00Zjg3LThhMjctYmQ0MTIyYzE4YmQz%40thread.v2/0?context=%7b%22Tid%22%3a%225c1948b3-a986-4850-83f2-465965c36ca1%22%2c%22Oid%22%3a%22a57a1825-eaa4-4fc7-8c90-994c44b7635d%22%7d)\n
	\n
	Ingen föranmälan behövs. \n
	Lägg till webbinariet i din kalender \n
	Möteslänken följer inte med i bokningen, kopiera länken och lägg till den i din kalender för att ansluta när mötet börjar. \n
	Program \n
	10.00-10.15 Inledning samt presentation av uppdraget \n
	10.15-10.40 Luftfartens omställning – presentation av preliminära slutsatser och förslag \n
	10.40-11.05 Sjöfartens omställning – presentation av preliminära slutsatser och förslag \n
	11.05-11.30 Möjlighet att ställa frågor eller komma med synpunkter
X-ALT-DESC;FMTTYPE=text/html:<p><span lang="SV-SE" xml:lang="SV-SE" data-contrast="auto">Den 17 december bjuder vi in till ett&nbsp;webbinarium om regeringsuppdraget att f&ouml;resl&aring; st&ouml;d f&ouml;r att fr&auml;mja sj&ouml;fartens och luftfartens omst&auml;llning till fossilfrihet.</span></p>\n
	\n
	\n
	<p>Under webbinariet kommer prelimin&auml;ra slutsatser och f&ouml;rslag att presenteras. Det kommer ocks&aring; finnas m&ouml;jlighet att st&auml;lla fr&aring;gor eller komma med synpunkter.&nbsp;&nbsp;Syftet med uppdraget &auml;r att p&aring; ett effektivt s&auml;tt p&aring;skynda transportsektorns omst&auml;llning.</p>\n
	<p>I uppdraget ing&aring;r att:</p>\n
	<ul>\n
	<li>analysera behovet av st&ouml;d f&ouml;r att fr&auml;mja sj&ouml;fartens och luftfartens omst&auml;llning till fossilfrihet</li>\n
	<li>f&ouml;resl&aring; utformning av st&ouml;d f&ouml;r att fr&auml;mja sj&ouml;fartens anv&auml;ndning av fossilfria energib&auml;rare, inklusive konvertering av fartyg till alternativa drivlinor</li>\n
	<li>analysera f&ouml;ruts&auml;ttningar f&ouml;r och f&ouml;resl&aring; utformning av st&ouml;d f&ouml;r en marknadsintroduktion av flyg som helt eller delvis drivs med el.&nbsp;&nbsp;</li>\n
	</ul>\n
	<p><span class="TextRun SCXW255084231 BCX8" lang="SV-SE" xml:lang="SV-SE" data-contrast="auto"><span class="NormalTextRun SCXW255084231 BCX8" data-ccp-parastyle="Body Text">Uppdraget ska slutredovisas 1 februari 2026.</span></span></p>\n
	<p><a href="https://www.regeringen.se/contentassets/2cef4bb6af044eaaba4c8db2ab57997e/uppdrag-till-statens-energimyndighet-att-analysera-och-foresla-hur-stod-for-att-framja-sjofartens-och-luftfartens-omstallning-till-fossilfrihet-kan-utformas.pdf" target="_top"><span class="TextRun SCXW255084231 BCX8" lang="SV-SE" xml:lang="SV-SE" data-contrast="auto"><span class="NormalTextRun SCXW255084231 BCX8" data-ccp-parastyle="Body Text">Uppdrag att analysera och f&ouml;resl&aring; hur st&ouml;d f&ouml;r att fr&auml;mja sj&ouml;fartens och luftfartens omst&auml;llning till fossilfrihet kan utformas (pdf, regeringen.se)</span></span></a></p>\n
	<h2><span class="TextRun SCXW255084231 BCX8" lang="SV-SE" xml:lang="SV-SE" data-contrast="auto"><span class="NormalTextRun SCXW255084231 BCX8" data-ccp-parastyle="Body Text">M&ouml;tesl&auml;nk</span></span></h2>\n
	<p><a href="https://teams.microsoft.com/l/meetup-join/19%3ameeting_ODgxN2YwODUtZDljMC00Zjg3LThhMjctYmQ0MTIyYzE4YmQz%40thread.v2/0?context=%7b%22Tid%22%3a%225c1948b3-a986-4850-83f2-465965c36ca1%22%2c%22Oid%22%3a%22a57a1825-eaa4-4fc7-8c90-994c44b7635d%22%7d"><span class="TextRun SCXW255084231 BCX8" lang="SV-SE" xml:lang="SV-SE" data-contrast="auto">Delta i webbinariet den 17 december</span></a></p>\n
	<p><span class="TextRun SCXW255084231 BCX8" lang="SV-SE" xml:lang="SV-SE" data-contrast="auto"><span class="TextRun SCXW40759528 BCX8" lang="SV-SE" xml:lang="SV-SE" data-contrast="auto"><span class="NormalTextRun SCXW40759528 BCX8" data-ccp-parastyle="Body Text">Ingen f&ouml;ranm&auml;lan beh&ouml;vs.</span></span></span></p>\n
	<h3><span class="TextRun SCXW255084231 BCX8" lang="SV-SE" xml:lang="SV-SE" data-contrast="auto"><span class="TextRun SCXW40759528 BCX8" lang="SV-SE" xml:lang="SV-SE" data-contrast="auto"><span class="NormalTextRun SCXW40759528 BCX8" data-ccp-parastyle="Body Text">L&auml;gg till webbinariet i din kalender</span></span></span></h3>\n
	<p>M&ouml;tesl&auml;nken f&ouml;ljer inte med i bokningen, kopiera l&auml;nken och l&auml;gg till den i din kalender f&ouml;r att ansluta n&auml;r m&ouml;tet b&ouml;rjar.</p>\n
	<h2><span class="TextRun SCXW255084231 BCX8" lang="SV-SE" xml:lang="SV-SE" data-contrast="auto"><span class="NormalTextRun SCXW255084231 BCX8" data-ccp-parastyle="Body Text">Program</span></span></h2>\n
	<p><span class="TextRun SCXW255084231 BCX8" lang="SV-SE" xml:lang="SV-SE" data-contrast="auto"><span class="NormalTextRun SCXW255084231 BCX8" data-ccp-parastyle="Body Text"><strong>10.00-10.15</strong> Inledning samt presentation av uppdraget </span></span></p>\n
	<p><span class="TextRun SCXW255084231 BCX8" lang="SV-SE" xml:lang="SV-SE" data-contrast="auto"><span class="NormalTextRun SCXW255084231 BCX8" data-ccp-parastyle="Body Text"><strong>10.15-10.40</strong> Luftfartens omst&auml;llning &ndash; presentation av prelimin&auml;ra slutsatser och f&ouml;rslag </span></span></p>\n
	<p><span class="TextRun SCXW255084231 BCX8" lang="SV-SE" xml:lang="SV-SE" data-contrast="auto"><span class="NormalTextRun SCXW255084231 BCX8" data-ccp-parastyle="Body Text"><strong>10.40-11.05</strong> Sj&ouml;fartens omst&auml;llning &ndash; presentation av prelimin&auml;ra slutsatser och f&ouml;rslag </span></span></p>\n
	<p><span class="TextRun SCXW255084231 BCX8" lang="SV-SE" xml:lang="SV-SE" data-contrast="auto"><span class="NormalTextRun SCXW255084231 BCX8" data-ccp-parastyle="Body Text"><strong>11.05-11.30</strong> M&ouml;jlighet att st&auml;lla fr&aring;gor eller komma med synpunkter&nbsp;</span></span></p>
PRIORITY:3
UID:87aeb66b-398b-47bc-8863-734c744c60f420260424T040400
DTSTAMP:20260424T040400
END:VEVENT
END:VCALENDAR
