BEGIN:VCALENDAR
VERSION:2.0
PRODID:Energimyndigheten.se
CALSCALE:GREGORIAN
METHOD:PUBLISH
BEGIN:VEVENT
DTSTART:20251114T130000
DTEND:20251114T160000
SUMMARY;LANGUAGE=sv:Workshop om forskningsbehov inom kärnkraftsområdet
LOCATION:Gredbyvägen 10, Eskilstuna
DESCRIPTION:Energimyndigheten bjuder in till en workshop för dialog med kärnkraftsbranschen om forskningsbehov och internationella samarbeten inom forskning och innovation. \n
	\n
	\n
	Syftet med workshopen är att ge dig möjlighet att få lämna inspel på forskningsbehov, utformning av framtida utlysningar samt Sveriges deltagande i internationella FoI-relaterade samarbeten (både som tekniska experter och inom FoI-projekt). \n
	Målgrupp \n
	Workshopen vänder sig till aktörer inom akademi, institut, industri, branschorganisationer samt offentlig sektor, inklusive myndigheter, med koppling till forskning inom kärnkraftsområdet. \n
	Bakgrund \n
	Energimyndigheten har ett uppdrag att främja forskning och innovation inom kärnkraft. I Energiforskningspropositionen framgår att minst 600 miljoner kronor ska användas till FoI inom kärnkraft under perioden 2025–2028. Det finns forskningsbehov inom hela kärnkraftens livscykel, inklusive både tekniska och samhällsvetenskapliga perspektiv. Kärnkraftsrelaterad forskning behöver bedrivas inom de fyra prioriterade områdena: Resilient och robust energisystem, Välfungerade energimarknader mot fördubblad elanvändning, Kompetensförsörjning och kompetensutveckling samt Ökat nyttiggörande av forskning och innovation i samhället. \n
	Energimyndigheten har haft ett antal riktade utlysningar mot kärnkraftsområdet och har även upphandlat Oxford Research för att ta fram en syntes om forskningsbehov inom fission. På det internationella planet deltar Energimyndigheten i Nuclear Energy Agency Committee for Technical and Economic Studies on Nuclear Energy Development and the Fuel Cycle (NEA NDC). \n
	\n
	Forskningsbehov inom kärnkraftsområdet (fission) (https://energimyndigheten.a-w2m.se/System/TemplateView.aspx?p=Arkitektkopia&id=e9807b00c5814135bf2be5972b8dd560&l=t&cat=%2FForskning%20och%20innovation&lstqty=1)\n
	\n
	Program (preliminärt) \n
	\n
	Inledning av Energimyndigheten \n
	Gruppdiskussioner kring:\n
	\n
	Forskningsbehov och utmaningar \n
	Utformning av framtida utlysningar \n
	Möjligheter till internationellt samarbete \n
	\n
	\n
	Summering och nästa steg \n
	\n
	Vi hoppas att du vill delta och bidra med dina perspektiv i detta viktiga arbete. \n
	Varmt välkommen! \n
	
X-ALT-DESC;FMTTYPE=text/html:<p>Energimyndigheten bjuder in till en workshop f&ouml;r dialog med k&auml;rnkraftsbranschen om forskningsbehov och internationella samarbeten inom forskning och innovation.</p>\n
	\n
	\n
	<p>Syftet med workshopen &auml;r att ge dig m&ouml;jlighet att f&aring; l&auml;mna inspel p&aring; forskningsbehov, utformning av framtida utlysningar samt Sveriges deltagande i internationella FoI-relaterade samarbeten (b&aring;de som tekniska experter och inom FoI-projekt).</p>\n
	<h2>M&aring;lgrupp</h2>\n
	<p>Workshopen v&auml;nder sig till akt&ouml;rer inom akademi, institut, industri, branschorganisationer samt offentlig sektor, inklusive myndigheter, med koppling till forskning inom k&auml;rnkraftsomr&aring;det.</p>\n
	<h2>Bakgrund</h2>\n
	<p>Energimyndigheten har ett uppdrag att fr&auml;mja forskning och innovation inom k&auml;rnkraft. I Energiforskningspropositionen framg&aring;r att minst 600 miljoner kronor ska anv&auml;ndas till FoI inom k&auml;rnkraft under perioden 2025&ndash;2028. Det finns forskningsbehov inom hela k&auml;rnkraftens livscykel, inklusive b&aring;de tekniska och samh&auml;llsvetenskapliga perspektiv. K&auml;rnkraftsrelaterad forskning beh&ouml;ver bedrivas inom de fyra prioriterade omr&aring;dena: Resilient&nbsp;och robust energisystem, V&auml;lfungerade energimarknader mot f&ouml;rdubblad elanv&auml;ndning, Kompetensf&ouml;rs&ouml;rjning och kompetensutveckling samt &Ouml;kat nyttigg&ouml;rande av forskning och innovation i samh&auml;llet.</p>\n
	<p>Energimyndigheten har haft ett antal riktade utlysningar mot k&auml;rnkraftsomr&aring;det och har &auml;ven upphandlat Oxford Research f&ouml;r att ta fram en syntes om forskningsbehov inom fission. P&aring; det internationella planet deltar Energimyndigheten i Nuclear Energy Agency Committee for Technical and Economic Studies on Nuclear Energy Development and the Fuel Cycle (NEA NDC).</p>\n
	<p><a href="https://energimyndigheten.a-w2m.se/System/TemplateView.aspx?p=Arkitektkopia&amp;id=e9807b00c5814135bf2be5972b8dd560&amp;l=t&amp;cat=%2FForskning%20och%20innovation&amp;lstqty=1" target="_top">Forskningsbehov inom k&auml;rnkraftsomr&aring;det (fission)</a></p>\n
	<h2>Program (prelimin&auml;rt)</h2>\n
	<ul>\n
	<li>Inledning av Energimyndigheten</li>\n
	<li>Gruppdiskussioner kring:\n
	<ul>\n
	<li>Forskningsbehov och utmaningar</li>\n
	<li>Utformning av framtida utlysningar</li>\n
	<li>M&ouml;jligheter till internationellt samarbete</li>\n
	</ul>\n
	</li>\n
	<li>Summering och n&auml;sta steg</li>\n
	</ul>\n
	<p>Vi hoppas att du vill delta och bidra med dina perspektiv i detta viktiga arbete.</p>\n
	<p>Varmt v&auml;lkommen!</p>\n
	<p>&nbsp;</p>
PRIORITY:3
UID:7eb51013-cf8d-438f-9177-2293d4cd3de620260421T172700
DTSTAMP:20260421T172700
END:VEVENT
END:VCALENDAR
