Workbook
Name _ftn1: '8'!$C$74
Name _ftnref1: '8'!#REF!
Name _GoBack: '15'!#REF!
Name _Ref479785257: '8'!#REF!
Name CURRENTYEAR: #REF!
Name CURRENTYEAR: #REF!
Name CURRENTYEAR: #REF!
Name LOOKUPMTH: #REF!
Name LOOKUPMTH: #REF!
Name LOOKUPMTH: #REF!
Name Month: #REF!
Name Month: #REF!
Name Month: #REF!
Name UnitFactor: [1]Cover!$Q$121

Sheet Texter och koder
A1: Språk:
A2: Svenska | B2: Klicka på plus-minustecknet ovan för att visa och dölja prognosår
A3: English | B3: Click the +/- sign above to show or hide forecast years

Sheet Innehåll_Content
A1: Energiindikatorer i siffror 2025 | B1: Energy indicators in figures 2025 | C1: =IF($E$2="Svenska",A1,B1) -> Energiindikatorer i siffror 2025 | E1: Välj språk/Choose language
A2: Innehållsförteckning | B2: Table of contents | C2: =IF($E$2="Svenska",A2,B2) -> Innehållsförteckning | E2: Svenska
A4: Indikatorer | B4: Indicators | C4: =IF($E$2="Svenska",A4,B4) -> Indikatorer
A6: Andelen fossilfri elproduktion | B6: Share of fossil free production of electricity | C6: 1 | D6: =IF($E$2="Svenska",A6,B6) -> Andelen fossilfri elproduktion
A7: Andelen energi från förnybara energikällor | B7: Share of energy from renewable sources | C7: 2 | D7: =IF($E$2="Svenska",A7,B7) -> Andelen energi från förnybara energikällor
A8: Utsläppsintensitet och förnybar andel för elproduktion per elområde | B8: Emission intensity of electricity in bidding zones | C8: 3 | D8: =IF($E$2="Svenska",A8,B8) -> Utsläppsintensitet och förnybar andel för elproduktion per elområde
A9: Andelen fossil och fossilfri energi | B9: Share of fossil and fossil free energy | C9: 4 | D9: =IF($E$2="Svenska",A9,B9) -> Andelen fossil och fossilfri energi
A10: Elektrifiering | B10: Electrification | C10: 5 | D10: =IF($E$2="Svenska",A10,B10) -> Elektrifiering
A11: Energiintensitet | B11: Energy intensity | C11: 6 | D11: =IF($E$2="Svenska",A11,B11) -> Energiintensitet
A12: Andelen förnybar energi i transportsektorn | B12: Share of renewable energy in the transport sector | C12: 7 | D12: =IF($E$2="Svenska",A12,B12) -> Andelen förnybar energi i transportsektorn
A13: Vägfordon och energieffektivitet i transportsektorn | B13: Road vehicles and energy efficiency in the transport sector | C13: 8 | D13: =IF($E$2="Svenska",A13,B13) -> Vägfordon och energieffektivitet i transportsektorn
A14: Energi- och elintensitet i industrin | B14: Industrial electricity and energy use per value added | C14: 9 | D14: =IF($E$2="Svenska",A14,B14) -> Energi- och elintensitet i industrin
A15: Energianvändning i byggnader | B15: Energy use in dwellings and non-residential premises | C15: 10 | D15: =IF($E$2="Svenska",A15,B15) -> Energianvändning i byggnader
A16: Kraftvärme | B16: Combined heat and power generation | C16: 11 | D16: =IF($E$2="Svenska",A16,B16) -> Kraftvärme
A17: Effektbalans | B17: Power balance | C17: 12 | D17: =IF($E$2="Svenska",A17,B17) -> Effektbalans
... A32: Jämställdhet | B32: Equality | C32: 28 | D32: =IF($E$2="Svenska",A32,B32) -> Jämställdhet

Sheet 1
A1: Tillbaka till innehåll | B1: Back to content | C1: =IF(Innehåll_Content!$E$2="Svenska",A1,B1) -> Tillbaka till innehåll | I1: =IF(Innehåll_Content!$E$2="Svenska",'Texter och koder'!B2,'Texter och koder'!B3) -> Klicka på plus-minustecknet ovan för att visa och dölja prognosår
A2: 1. Andelen fossilfri elproduktion | B2: 1. Share of fossilfree electricity production | C2: =IF(Innehåll_Content!$E$2="Svenska",A2,B2) -> 1. Andelen fossilfri elproduktion
A5: Förnybar elproduktion i förhållande till total elproduktion, procent, 1990- | B5: Share of electricity production from renewable sources, percent, 1990- | C5: =IF(Innehåll_Content!$E$2="Svenska",A5,B5) -> Förnybar elproduktion i förhållande till total elproduktion, procent, 1990-
D6: 2028 | E6: 2027 | F6: 2026 | G6: 2025 | H6: 2024 | I6: 2023 | J6: 2022 | K6: 2021 | L6: 2020 | M6: 2019 | N6: 2018 | O6: 2017 | P6: 2016 | Q6: 2015 | R6: 2014 | S6: 2013 | T6: 2012 | U6: 2011 | V6: 2010 | W6: 2009 | X6: 2008 | Y6: 2007 | Z6: 2006 | AA6: 2005 | AB6: 2004 | AC6: 2003 | AD6: 2002 | AE6: 2001 | AF6: 2000 | AG6: 1999 | AH6: 1998 | AI6: 1997 | AJ6: 1996 | AK6: 1995 | AL6: 1994 | AM6: 1993 | AN6: 1992 | AO6: 1991 | AP6: 1990
A7: Andel förnybar elproduktion i förhållande till total elproduktion | B7: Share of renewable electricity production | C7: =IF(Innehåll_Content!$E$2="Svenska",A7,B7) -> Andel förnybar elproduktion i förhållande till total elproduktion | D7: 0.71735248 | E7: 0.71390337 | F7: 0.7080902 | G7: 0.70337531 | H7: 0.70109995 | I7: 0.69912591 | J7: 0.68800129 | K7: 0.67860093 | L7: 0.69008001 | M7: 0.59138125 | N7: 0.56350189 | O7: 0.58424738 | P7: 0.57597303 | Q7: 0.63491403 | R7: 0.56159007 | S7: 0.54203065 | T7: 0.59214204 | U7: 0.56274544 | V7: 0.55654299 | W7: 0.58165646 | X7: 0.54543982 | Y7: 0.51860005 | Z7: 0.49482203 | AA7: 0.51402236 | AB7: 0.44892015 | AC7: 0.4356043 | AD7: 0.48860806 | AE7: 0.52059825 | AF7: 0.57331382 | AG7: 0.48685115 | AH7: 0.49500331 | AI7: 0.48917033 | AJ7: 0.38734424 | AK7: 0.48094637 | AL7: 0.43310638 | AM7: 0.53333685 | AN7: 0.52907394 | AO7: 0.44732048 | AP7: 0.51513875
A8: Vattenkraft | B8: Hydro power | C8: =IF(Innehåll_Content!$E$2="Svenska",A8,B8) -> Vattenkraft | D8: 0.35833087 | E8: 0.36272482 | F8: 0.3690181 | G8: 0.37264871 | H8: 0.37935648 | I8: 0.40255454 | J8: 0.4080689 | K8: 0.43616778 | L8: 0.44735231 | M8: 0.3925352 | N8: 0.38729583 | O8: 0.40301976 | P8: 0.40484011 | Q8: 0.47038142 | R8: 0.42215933 | S8: 0.40826789 | T8: 0.48256288 | U8: 0.45129384 | V8: 0.46031459 | W8: 0.48759949 | X8: 0.47084114 | Y8: 0.45308053 | Z8: 0.436277 | AA8: 0.46536868 | AB8: 0.40360148 | AC8: 0.40070951 | AD8: 0.45947128 | AE8: 0.49719555 | AF8: 0.54841633 | AG8: 0.46940215 | AH8: 0.47714779 | AI8: 0.47026028 | AJ8: 0.37409144 | AK8: 0.46642784 | AL8: 0.42066194 | AM8: 0.52097175 | AN8: 0.51675295 | AO8: 0.43705617 | AP8: 0.50412346
A9: Solkraft | B9: Solar power | C9: =IF(Innehåll_Content!$E$2="Svenska",A9,B9) -> Solkraft | D9: 0.048152264 | E9: 0.043326862 | F9: 0.03581385 | G9: 0.031271714 | H9: 0.024406536 | I9: 0.019025967 | J9: 0.011567608 | K9: 0.0066979457 | L9: 0.0050147219 | M9: 0.0027299195 | N9: 0.0016242472 | O9: 0.00087823115 | P9: 0.00093850931 | Q9: 0.00060959649 | R9: 0.00031291634 | S9: 0.00023450409 | T9: 0.00011624726 | U9: 8.8456513e-05 | V9: 0 | W9: 0 | X9: 0 | Y9: 0 | Z9: 0 | AA9: 0 | AB9: 0 | AC9: 0 | AD9: 0 | AE9: 0 | AF9: 0 | AG9: 0 | AH9: 0 | AI9: 0 | AJ9: 0 | AK9: 0 | AL9: 0 | AM9: 0 | AN9: 0 | AO9: 0 | AP9: 0
A10: Vindkraft | B10: Wind power | C10: =IF(Innehåll_Content!$E$2="Svenska",A10,B10) -> Vindkraft | D10: 0.2530669 | E10: 0.24967104 | F10: 0.24463614 | G10: 0.23937075 | H10: 0.23758053 | I10: 0.20899896 | J10: 0.19461245 | K10: 0.1613153 | L10: 0.17153222 | M10: 0.12010301 | N10: 0.10425158 | O10: 0.10980661 | P10: 0.10155217 | Q10: 0.10263928 | R10: 0.074883288 | S10: 0.065944038 | T10: 0.044097029 | U10: 0.04139953 | V10: 0.024050389 | W10: 0.018654507 | X10: 0.013687452 | Y10: 0.0098687661 | Z10: 0.0070437186 | AA10: 0.0060795145 | AB10: 0.005709599 | AC10: 0.0047690917 | AD10: 0.0042448609 | AE10: 0.0030560363 | AF10: 0.003219431 | AG10: 0.0023714539 | AH10: 0.0019906472 | AI10: 0.0013950437 | AJ10: 0.0010545213 | AK10: 0.00068687218 | AL10: 0.00052016522 | AM10: 0.00033990273 | AN10: 0.00021864334 | AO10: 9.1268376e-05 | AP10: 4.2337818e-05
A11: Biokraft | B11: Bio power | C11: =IF(Innehåll_Content!$E$2="Svenska",A11,B11) -> Biokraft | D11: 0.057802449 | E11: 0.058180645 | F11: 0.058622115 | G11: 0.060084132 | H11: 0.059756396 | I11: 0.068546453 | J11: 0.073752329 | K11: 0.074419909 | L11: 0.066180756 | M11: 0.076013126 | N11: 0.070330242 | O11: 0.07054278 | P11: 0.068642233 | Q11: 0.061283735 | R11: 0.06423454 | S11: 0.067584213 | T11: 0.065365884 | U11: 0.069963611 | V11: 0.07217801 | W11: 0.075402471 | X11: 0.060911232 | Y11: 0.055650761 | Z11: 0.05150131 | AA11: 0.042574164 | AB11: 0.039609071 | AC11: 0.030125696 | AD11: 0.024891915 | AE11: 0.020346667 | AF11: 0.021678053 | AG11: 0.015077545 | AH11: 0.015864877 | AI11: 0.01751501 | AJ11: 0.012198286 | AK11: 0.013831664 | AL11: 0.011924274 | AM11: 0.012025199 | AN11: 0.012102352 | AO11: 0.010173044 | AP11: 0.010972951
A14: Fossilfri elproduktion i förhållande till total elproduktion, procent, 1990- | B14: Share of electricity production from fossilfree sources, percent, 1990- | C14: =IF(Innehåll_Content!$E$2="Svenska",A14,B14) -> Fossilfri elproduktion i förhållande till total elproduktion, procent, 1990-
D15: 2028 | E15: 2027 | F15: 2026 | G15: 2025 | H15: 2024 | I15: 2023 | J15: 2022 | K15: 2021 | L15: 2020 | M15: 2019 | N15: 2018 | O15: 2017 | P15: 2016 | Q15: 2015 | R15: 2014 | S15: 2013 | T15: 2012 | U15: 2011 | V15: 2010 | W15: 2009 | X15: 2008 | Y15: 2007 | Z15: 2006 | AA15: 2005 | AB15: 2004 | AC15: 2003 | AD15: 2002 | AE15: 2001 | AF15: 2000 | AG15: 1999 | AH15: 1998 | AI15: 1997 | AJ15: 1996 | AK15: 1995 | AL15: 1994 | AM15: 1993 | AN15: 1992 | AO15: 1991 | AP15: 1990
A16: Andel fossilfri elproduktion i förhållande till total elproduktion | B16: Share of fossil free electricity production | C16: =IF(Innehåll_Content!$E$2="Svenska",A16,B16) -> Andel fossilfri elproduktion i förhållande till total elproduktion | D16: 0.98954365 | E16: 0.98943221 | F16: 0.98839948 | G16: 0.98792749 | H16: 0.98781185 | I16: 0.98543475 | J16: 0.98270464 | K16: 0.98204362 | L16: 0.98460188 | M16: 0.98069904 | N16: 0.97633256 | O16: 0.9771874 | P16: 0.97315199 | Q16: 0.97664614 | R16: 0.97609313 | S16: 0.96818041 | T16: 0.96996614 | U16: 0.95589323 | V16: 0.94027612 | W16: 0.95637381 | X16: 0.96461187 | Y16: 0.96168353 | Z16: 0.95795544 | AA16: 0.96353073 | AB16: 0.9527083 | AC16: 0.93030498 | AD16: 0.94625712 | AE16: 0.95941843 | AF16: 0.95916649 | AG16: 0.9518681 | AH16: 0.95066116 | AI16: 0.94901246 | AJ16: 0.90993279 | AK16: 0.94564663 | AL16: 0.93944388 | AM16: 0.94943445 | AN16: 0.95771362 | AO16: 0.9632255 | AP16: 0.97538611
A17: Vattenkraft | B17: Hydro power | C17: =IF(Innehåll_Content!$E$2="Svenska",A17,B17) -> Vattenkraft | D17: 0.35833087 | E17: 0.36272482 | F17: 0.3690181 | G17: 0.37264871 | H17: 0.37935648 | I17: 0.40255454 | J17: 0.4080689 | K17: 0.43616778 | L17: 0.44735231 | M17: 0.3925352 | N17: 0.38729583 | O17: 0.40301976 | P17: 0.40484011 | Q17: 0.47038142 | R17: 0.42215933 | S17: 0.40826789 | T17: 0.48256288 | U17: 0.45129384 | V17: 0.46031459 | W17: 0.48759949 | X17: 0.47084114 | Y17: 0.45308053 | Z17: 0.436277 | AA17: 0.46536868 | AB17: 0.40360148 | AC17: 0.40070951 | AD17: 0.45947128 | AE17: 0.49719555 | AF17: 0.54841633 | AG17: 0.46940215 | AH17: 0.47714779 | AI17: 0.47026028 | AJ17: 0.37409144 | AK17: 0.46642784 | AL17: 0.42066194 | AM17: 0.52097175 | AN17: 0.51675295 | AO17: 0.43705617 | AP17: 0.50412346
A18: Solkraft | B18: Solar power | C18: =IF(Innehåll_Content!$E$2="Svenska",A18,B18) -> Solkraft | D18: 0.048152264 | E18: 0.043326862 | F18: 0.03581385 | G18: 0.031271714 | H18: 0.024406536 | I18: 0.019025967 | J18: 0.011567608 | K18: 0.0066979457 | L18: 0.0050147219 | M18: 0.0027299195 | N18: 0.0016242472 | O18: 0.00087823115 | P18: 0.00093850931 | Q18: 0.00060959649 | R18: 0.00031291634 | S18: 0.00023450409 | T18: 0.00011624726 | U18: 8.8456513e-05 | V18: 0 | W18: 0 | X18: 0 | Y18: 0 | Z18: 0 | AA18: 0 | AB18: 0 | AC18: 0 | AD18: 0 | AE18: 0 | AF18: 0 | AG18: 0 | AH18: 0 | AI18: 0 | AJ18: 0 | AK18: 0 | AL18: 0 | AM18: 0 | AN18: 0 | AO18: 0 | AP18: 0
A19: Vindkraft | B19: Wind power | C19: =IF(Innehåll_Content!$E$2="Svenska",A19,B19) -> Vindkraft | D19: 0.2530669 | E19: 0.24967104 | F19: 0.24463614 | G19: 0.23937075 | H19: 0.23758053 | I19: 0.20899896 | J19: 0.19461245 | K19: 0.1613153 | L19: 0.17153222 | M19: 0.12010301 | N19: 0.10425158 | O19: 0.10980661 | P19: 0.10155217 | Q19: 0.10263928 | R19: 0.074883288 | S19: 0.065944038 | T19: 0.044097029 | U19: 0.04139953 | V19: 0.024050389 | W19: 0.018654507 | X19: 0.013687452 | Y19: 0.0098687661 | Z19: 0.0070437186 | AA19: 0.0060795145 | AB19: 0.005709599 | AC19: 0.0047690917 | AD19: 0.0042448609 | AE19: 0.0030560363 | AF19: 0.003219431 | AG19: 0.0023714539 | AH19: 0.0019906472 | AI19: 0.0013950437 | AJ19: 0.0010545213 | AK19: 0.00068687218 | AL19: 0.00052016522 | AM19: 0.00033990273 | AN19: 0.00021864334 | AO19: 9.1268376e-05 | AP19: 4.2337818e-05
A20: Biokraft | B20: Bio power | C20: =IF(Innehåll_Content!$E$2="Svenska",A20,B20) -> Biokraft | D20: 0.057802449 | E20: 0.058180645 | F20: 0.058622115 | G20: 0.060084132 | H20: 0.059756396 | I20: 0.068546453 | J20: 0.073752329 | K20: 0.074419909 | L20: 0.066180756 | M20: 0.076013126 | N20: 0.070330242 | O20: 0.07054278 | P20: 0.068642233 | Q20: 0.061283735 | R20: 0.06423454 | S20: 0.067584213 | T20: 0.065365884 | U20: 0.069963611 | V20: 0.07217801 | W20: 0.075402471 | X20: 0.060911232 | Y20: 0.055650761 | Z20: 0.05150131 | AA20: 0.042574164 | AB20: 0.039609071 | AC20: 0.030125696 | AD20: 0.024891915 | AE20: 0.020346667 | AF20: 0.021678053 | AG20: 0.015077545 | AH20: 0.015864877 | AI20: 0.01751501 | AJ20: 0.012198286 | AK20: 0.013831664 | AL20: 0.011924274 | AM20: 0.012025199 | AN20: 0.012102352 | AO20: 0.010173044 | AP20: 0.010972951
A21: Kärnkraft | B21: Nuclear power | C21: =IF(Innehåll_Content!$E$2="Svenska",A21,B21) -> Kärnkraft | D21: 0.27219117 | E21: 0.27552885 | F21: 0.28030928 | G21: 0.28455217 | H21: 0.28671189 | I21: 0.28630884 | J21: 0.29470335 | K21: 0.30344269 | L21: 0.29452187 | M21: 0.38931779 | N21: 0.41283067 | O21: 0.39294002 | P21: 0.39717896 | Q21: 0.34173211 | R21: 0.41450306 | S21: 0.42614976 | T21: 0.3778241 | U21: 0.3931478 | V21: 0.38373314 | W21: 0.37471735 | X21: 0.41917205 | Y21: 0.44308347 | Z21: 0.46313341 | AA21: 0.44950837 | AB21: 0.50378815 | AC21: 0.49470068 | AD21: 0.45764906 | AE21: 0.43882018 | AF21: 0.38585268 | AG21: 0.46501695 | AH21: 0.45565785 | AI21: 0.45984212 | AJ21: 0.52258854 | AK21: 0.46470025 | AL21: 0.50633749 | AM21: 0.4160976 | AN21: 0.42863968 | AO21: 0.51590502 | AP21: 0.46024736
A23: Källa: Energimyndigheten | B23: Source: The Swedish Energy Agency | C23: =IF(Innehåll_Content!$E$2="Svenska",A23,B23) -> Källa: Energimyndigheten

Sheet 2
A1: Tillbaka till innehåll | B1: Back to content | C1: =IF(Innehåll_Content!$E$2="Svenska",A1,B1) -> Tillbaka till innehåll
A2: 2. Andelen energi från förnybara energikällor | B2: 2. Share of energy from renewable energy sources | C2: =IF(Innehåll_Content!$E$2="Svenska",A2,B2) -> 2. Andelen energi från förnybara energikällor
A4: Andel förnybar energi i Sverige 2005–, procent, enligt förnybarthetsdirektivets beräkningsmetod | B4: Share of renewable energy in Sweden, 2005–, according to the calculation method in the renewable energy directive | C4: =IF(Innehåll_Content!$E$2="Svenska",A4,B4) -> Andel förnybar energi i Sverige 2005–, procent, enligt förnybarthetsdirektivets beräkningsmetod
D5: 2023 | E5: 2022 | F5: 2021 | G5: 2020 | H5: 2019 | I5: 2018 | J5: 2017 | K5: 2016 | L5: 2015 | M5: 2014 | N5: 2013 | O5: 2012 | P5: 2011 | Q5: 2010 | R5: 2009 | S5: 2008 | T5: 2007 | U5: 2006 | V5: 2005
A6: Totalt | B6: Total | C6: =IF(Innehåll_Content!$E$2="Svenska",A6,B6) -> Totalt | D6: 0.67705483 | E6: 0.6628703 | F6: 0.62526929 | G6: 0.60124273 | H6: 0.55785393 | I6: 0.53916113 | J6: 0.53389755 | K6: 0.52597146 | L6: 0.52220432 | M6: 0.51150767 | N6: 0.50153288 | O6: 0.49402701 | P6: 0.47632076 | Q6: 0.46099388 | R6: 0.47023557 | S6: 0.43921826 | T6: 0.43224045 | U6: 0.41734171 | V6: 0.39982143
A7: Värme, kyla, industri m.m. | B7: Heating, cooling, industry etc. | C7: =IF(Innehåll_Content!$E$2="Svenska",A7,B7) -> Värme, kyla, industri m.m. | D7: 0.69853782 | E7: 0.69810254 | F7: 0.68529563 | G7: 0.6638104 | H7: 0.64393689 | I7: 0.63301129 | J7: 0.6362026 | K7: 0.63412279 | L7: 0.6323519 | M7: 0.62565797 | N7: 0.61708185 | O7: 0.60635033 | P7: 0.58519428 | Q7: 0.57070093 | R7: 0.59203439 | S7: 0.55777718 | T7: 0.54465393 | U7: 0.52495588 | V7: 0.49022076
A8: El | B8: Electricity | C8: =IF(Innehåll_Content!$E$2="Svenska",A8,B8) -> El | D8: 0.87547447 | E8: 0.83372275 | F8: 0.75759948 | G8: 0.74494629 | H8: 0.71233517 | I8: 0.66228278 | J8: 0.65908592 | K8: 0.64869281 | L8: 0.65733445 | M8: 0.63213939 | N8: 0.61737302 | O8: 0.59779114 | P8: 0.59623862 | Q8: 0.55767192 | R8: 0.58252211 | S8: 0.53686608 | T8: 0.53210287 | U8: 0.51782511 | V8: 0.50899077
A9: Transporter | B9: Transports | C9: =IF(Innehåll_Content!$E$2="Svenska",A9,B9) -> Transporter | D9: 0.33645101 | E9: 0.28841112 | F9: 0.28677224 | G9: 0.31854277 | H9: 0.30309034 | I9: 0.29695598 | J9: 0.26842169 | K9: 0.26559872 | L9: 0.21489531 | M9: 0.18830994 | N9: 0.15315265 | O9: 0.13776766 | P9: 0.11938189 | Q9: 0.09626668 | R9: 0.093556872 | S9: 0.086931373 | T9: 0.084211332 | U9: 0.075093058 | V9: 0.065959852
A11: Källa: Energimyndigheten och Eurostat | B11: Source: The Swedish Energy Agency and Eurostat | C11: =IF(Innehåll_Content!$E$2="Svenska",A11,B11) -> Källa: Energimyndigheten och Eurostat
A14: Förnybar energi, TWh, 2005– | B14: Renewable energy, TWh, 2005– | C14: =IF(Innehåll_Content!$E$2="Svenska",A14,B14) -> Förnybar energi, TWh, 2005–
D15: 2023 | E15: 2022 | F15: 2021 | G15: 2020 | H15: 2019 | I15: 2018 | J15: 2017 | K15: 2016 | L15: 2015 | M15: 2014 | N15: 2013 | O15: 2012 | P15: 2011 | Q15: 2010 | R15: 2009 | S15: 2008 | T15: 2007 | U15: 2006 | V15: 2005
A16: Biobränslen | B16: Biofuels | C16: =IF(Innehåll_Content!$E$2="Svenska",A16,B16) -> Biobränslen | D16: 141.66027 | E16: 140.33152 | F16: 139.45586 | G16: 130.54858 | H16: 125.68401 | I16: 124.24829 | J16: 125.70605 | K16: 122.50015 | L16: 118.22187 | M16: 113.2756 | N16: 113.76576 | O16: 115.08967 | P16: 108.27199 | Q16: 114.04137 | R16: 103.94608 | S16: 100.81884 | T16: 100.04798 | U16: 94.613842 | V16: 88.701335
A17: Vattenkraft | B17: Hydropower | C17: =IF(Innehåll_Content!$E$2="Svenska",A17,B17) -> Vattenkraft | D17: 67.494256 | E17: 67.65082 | F17: 67.362868 | G17: 66.572423 | H17: 66.836851 | I17: 66.38074 | J17: 66.14493 | K17: 66.144742 | L17: 66.668366 | M17: 65.428316 | N17: 67.862575 | O17: 68.505803 | P17: 68.509348 | Q17: 68.28293 | R17: 68.325708 | S17: 67.202213 | T17: 68.720474 | U17: 67.943607 | V17: 68.420924
A18: Vindkraft | B18: Wind power | C18: =IF(Innehåll_Content!$E$2="Svenska",A18,B18) -> Vindkraft | D18: 38.073805 | E18: 33.837823 | F18: 28.707993 | G18: 24.527024 | H18: 20.763526 | I18: 18.095541 | J18: 17.256346 | K18: 15.784323 | L18: 14.120023 | M18: 11.069644 | N18: 9.0738513 | O18: 7.0789994 | P18: 5.2375877 | Q18: 3.4596883 | R18: 2.5145689 | S18: 1.8777923 | T18: 1.3280556 | U18: 1.0178792 | V18: 0.93042891
A19: Värmepumpar | B19: Heat pumps | C19: =IF(Innehåll_Content!$E$2="Svenska",A19,B19) -> Värmepumpar | D19: 19.414372 | E19: 19.393576 | F19: 18.964278 | G19: 18.270451 | H19: 18.11315 | I19: 16.878084 | J19: 16.0422 | K19: 16.146955 | L19: 14.185957 | M19: 14.101668 | N19: 14.247182 | O19: 14.161407 | P19: 13.529028 | Q19: 10.677115 | R19: 10.668587 | S19: 9.7983525 | T19: 9.1429633 | U19: 8.0525345 | V19: 6.8142496
A20: Solenergi | B20: Solar energy | C20: =IF(Innehåll_Content!$E$2="Svenska",A20,B20) -> Solenergi | D20: 3.2248333 | E20: 2.0938889 | F20: 1.6440556 | G20: 1.1721111 | H20: 0.80288889 | I20: 0.53394444 | J20: 0.35888889 | K20: 0.273 | L20: 0.22811111 | M20: 0.177 | N20: 0.165 | O20: 0.14788889 | P20: 0.13905556 | Q20: 0.1286 | R20: 0.122 | S20: 0.114 | T20: 0.103139 | U20: 0.069374444 | V20: 0.070738111
A21: Totalt | B21: Total | C21: =IF(Innehåll_Content!$E$2="Svenska",A21,B21) -> Totalt | D21: 269.86754 | E21: 263.30763 | F21: 256.13506 | G21: 241.09059 | H21: 232.20043 | I21: 226.1366 | J21: 225.50842 | K21: 220.84918 | L21: 213.42432 | M21: 204.05223 | N21: 205.11437 | O21: 204.98376 | P21: 195.68701 | Q21: 196.58971 | R21: 185.57695 | S21: 179.8112 | T21: 179.34261 | U21: 171.69724 | V21: 164.93768
A23: Statistisk överföring till Norge | B23: Statistic transfer to Norway | C23: =IF(Innehåll_Content!$E$2="Svenska",A23,B23) -> Statistisk överföring till Norge | G23: 2.644 | H23: 5.8715 | I23: 5.0194999 | J23: 5.362 | K23: 5.0075 | L23: 4.042 | M23: 2.578 | N23: 1.684 | O23: 0.3514586
A24: Förnybar energi i målberäkning | B24: Renewable energy in target calculation | C24: =IF(Innehåll_Content!$E$2="Svenska",A24,B24) -> Förnybar energi i målberäkning | D24: 269.86754 | E24: 263.30763 | F24: 256.13506 | G24: 238.44659 | H24: 226.32893 | I24: 221.1171 | J24: 220.14642 | K24: 215.84168 | L24: 209.38232 | M24: 201.47423 | N24: 203.43037 | O24: 204.63231 | P24: 195.68701 | Q24: 196.58971 | R24: 185.57695 | S24: 179.8112 | T24: 179.34261 | U24: 171.69724 | V24: 164.93768
A25: Total energianvändning | B25: Total energy use | C25: =IF(Innehåll_Content!$E$2="Svenska",A25,B25) -> Total energianvändning | D25: 398.59038 | E25: 397.22346 | F25: 409.20773 | G25: 395.82273 | H25: 405.7136 | I25: 410.1132 | J25: 412.33832 | K25: 410.36766 | L25: 400.95862 | M25: 393.8831 | N25: 405.61721 | O25: 414.21279 | P25: 410.83032 | Q25: 426.59753 | R25: 394.78028 | S25: 409.38916 | T25: 414.91399 | U25: 411.40685 | V25: 412.52835
A27: Källa: Energimyndigheten och Eurostat | B27: Source: The Swedish Energy Agency and Eurostat | C27: =IF(Innehåll_Content!$E$2="Svenska",A27,B27) -> Källa: Energimyndigheten och Eurostat
A30: Biobränsleanvändning, TWh, 2005– | B30: Consumption of biofuels, TWh, 2005– | C30: =IF(Innehåll_Content!$E$2="Svenska",A30,B30) -> Biobränsleanvändning, TWh, 2005–
D31: 2023 | E31: 2022 | F31: 2021 | G31: 2020 | H31: 2019 | I31: 2018 | J31: 2017 | K31: 2016 | L31: 2015 | M31: 2014 | N31: 2013 | O31: 2012 | P31: 2011 | Q31: 2010 | R31: 2009 | S31: 2008 | T31: 2007 | U31: 2006 | V31: 2005
A32: Elproduktion | B32: Electricity generation | C32: =IF(Innehåll_Content!$E$2="Svenska",A32,B32) -> Elproduktion | D32: 11.657157 | E32: 13.071624 | F32: 13.090696 | G32: 11.152 | H32: 13.004 | I32: 11.861 | J32: 12.039 | K32: 11.441078 | L32: 10.737 | M32: 10.647 | N32: 11.331 | O32: 12.189 | P32: 11.534 | Q32: 12.191233 | R32: 11.46041 | S32: 10.337182 | T32: 9.835833 | U32: 8.359192 | V32: 7.48981
A33: Fjärrvärmeproduktion | B33: Heat generation | C33: =IF(Innehåll_Content!$E$2="Svenska",A33,B33) -> Fjärrvärmeproduktion | D33: 38.907308 | E33: 38.404337 | F33: 40.751228 | G33: 32.971944 | H33: 36.177778 | I33: 35.390833 | J33: 36.197778 | K33: 35.4625 | L33: 34.398889 | M33: 33.296111 | N33: 33.79 | O33: 34.310556 | P33: 28.804167 | Q33: 37.926667 | R33: 31.501389 | S33: 31.492222 | T33: 30.455278 | U33: 29.565278 | V33: 29.130278
A34: Industri | B34: Industry | C34: =IF(Innehåll_Content!$E$2="Svenska",A34,B34) -> Industri | D34: 57.133333 | E34: 53.018333 | F34: 51.822222 | G34: 57.618611 | H34: 49.039444 | I34: 48.162778 | J34: 48.388333 | K34: 49.636389 | L34: 49.787222 | M34: 47.740278 | N34: 48.531389 | O34: 46.909167 | P34: 47.434167 | Q34: 49.206389 | R34: 46.820556 | S34: 44.93 | T34: 47.4725 | U34: 45.643889 | V34: 41.298056
A35: Bostäder m.m. | B35: Residential, services etc. | C35: =IF(Innehåll_Content!$E$2="Svenska",A35,B35) -> Bostäder m.m. | D35: 15.642269 | E35: 16.34348 | F35: 16.90751 | G35: 12.4525 | H35: 11.321667 | I35: 11.391667 | J35: 13.081389 | K35: 13.116944 | L35: 12.710278 | M35: 12.625278 | N35: 13.156389 | O35: 15.67 | P35: 15.239167 | Q35: 9.7180142 | R35: 9.5663248 | S35: 9.7324097 | T35: 8.693276 | U35: 8.3258614 | V35: 8.849619
A36: Transporter | B36: Transports | C36: =IF(Innehåll_Content!$E$2="Svenska",A36,B36) -> Transporter | D36: 18.320207 | E36: 19.493749 | F36: 16.884204 | G36: 16.353525 | H36: 16.141121 | I36: 17.442011 | J36: 15.999554 | K36: 12.843244 | L36: 10.588478 | M36: 8.966933 | N36: 6.9569862 | O36: 6.0109442 | P36: 5.2604906 | Q36: 4.9990722 | R36: 4.5974028 | S36: 4.3270243 | T36: 3.5910913 | U36: 2.7196219 | V36: 1.9335728
A37: Totalt | B37: Total | C37: =IF(Innehåll_Content!$E$2="Svenska",A37,B37) -> Totalt | D37: 141.66027 | E37: 140.33152 | F37: 139.45586 | G37: 130.54858 | H37: 125.68401 | I37: 124.24829 | J37: 125.70605 | K37: 122.50015 | L37: 118.22187 | M37: 113.2756 | N37: 113.76576 | O37: 115.08967 | P37: 108.27199 | Q37: 114.04137 | R37: 103.94608 | S37: 100.81884 | T37: 100.04798 | U37: 94.613842 | V37: 88.701335
A39: Källa: Energimyndigheten och Eurostat | B39: Source: The Swedish Energy Agency and Eurostat | C39: =IF(Innehåll_Content!$E$2="Svenska",A39,B39) -> Källa: Energimyndigheten och Eurostat

Sheet 3
A1: Tillbaka till innehåll | B1: Back to content | C1: =IF(Innehåll_Content!$E$2="Svenska",A1,B1) -> Tillbaka till innehåll
A2: 3. Utsläppsintensitet och förnybar el per elområde | B2: 3. Emission intensity and renewable electricity by bidding zones | C2: =IF(Innehåll_Content!$E$2="Svenska",A2,B2) -> 3. Utsläppsintensitet och förnybar el per elområde
A4: Utsläppsintensitet per elområde, gCO2eq/MJ, 2021-2023 | B4: Emission intensity of electricity in bidding zones, gCO2eq/MJ, 2021-2023 | C4: =IF(Innehåll_Content!$E$2="Svenska",A4,B4) -> Utsläppsintensitet per elområde, gCO2eq/MJ, 2021-2023
D6: 2023 | E6: 2022 | F6: 2021
C7: SE1 | D7: 7 | E7: 6 | F7: 8
C8: SE2 | D8: <1 | E8: <1 | F8: <1
C9: SE3 | D9: 5 | E9: 6 | F9: 5.6
C10: SE4 | D10: 5 | E10: 11 | F10: 9.2
A12: Källa: Beräknat av inrapporterad data till den officiella statistiken | B12: Source: Calculated from reported data to the official statistics | C12: =IF(Innehåll_Content!$E$2="Svenska",A12,B12) -> Källa: Beräknat av inrapporterad data till den officiella statistiken
A14: Förnybar elproduktion per elområde, procent, 2021-2023 | B14: Share of renewable electricity production in bidding zones, percent, 2021-2023 | C14: =IF(Innehåll_Content!$E$2="Svenska",A14,B14) -> Förnybar elproduktion per elområde, procent, 2021-2023
D16: 2023 | E16: 2022 | F16: 2021
C17: SE1 | D17: 2.3683664 | E17: 2.3027785 | F17: 2.1868996
C18: SE2 | D18: 3.2863115 | E18: 3.1702491 | F18: 3.0448091
C19: SE3 | D19: 0.32566878 | E19: 0.31947207 | F19: 0.30263186
C20: SE4 | D20: 0.47067557 | E20: 0.417404 | F20: 0.34042182
A22: Källa: Energimyndighetens beräkningar på Årlig energistatistik (el, gas och fjärrvärme) och Månatlig elstatistik per elområde | B22: Source: The Swedish Energy Agency's calculations on Annual energy statistics (electricity, gas and district heating) and Monthly electricity statistics per electricity area | C22: =IF(Innehåll_Content!$E$2="Svenska",A22,B22) -> Källa: Energimyndighetens beräkningar på Årlig energistatistik (el, gas och fjärrvärme) och Månatlig elstatistik per elområde

Sheet 4
A1: Tillbaka till innehåll | B1: Back to content | C1: =IF(Innehåll_Content!$E$2="Svenska",A1,B1) -> Tillbaka till innehåll | I1: =IF(Innehåll_Content!$E$2="Svenska",'Texter och koder'!B2,'Texter och koder'!B3) -> Klicka på plus-minustecknet ovan för att visa och dölja prognosår
A2: 4. Andel fossil och fossilfri energi | B2: 4. Share of fossil and fossil free energy | C2: =IF(Innehåll_Content!$E$2="Svenska",A2,B2) -> 4. Andel fossil och fossilfri energi
A4: Fossilt bränsle i förhållande till total tillförd energi, exklusive icke energiändamål 1983–, TWh | B4: Fossil fuels in relation to total energy supply, excluding non energy use, 1983–2022, TWh | C4: =IF(Innehåll_Content!$E$2="Svenska",A4,B4) -> Fossilt bränsle i förhållande till total tillförd energi, exklusive icke energiändamål 1983–, TWh
D5: 2028 | E5: 2027 | F5: 2026 | G5: 2025 | H5: 2024 | I5: 2023 | J5: 2022 | K5: 2021 | L5: 2020 | M5: 2019 | N5: 2018 | O5: 2017 | P5: 2016 | Q5: 2015 | R5: 2014 | S5: 2013 | T5: 2012 | U5: 2011 | V5: 2010 | W5: 2009 | X5: 2008 | Y5: 2007 | Z5: 2006 | AA5: 2005 | AB5: 2004 | AC5: 2003 | AD5: 2002 | AE5: 2001 | AF5: 2000 | AG5: 1999 | AH5: 1998 | AI5: 1997 | AJ5: 1996 | AK5: 1995 | AL5: 1994 | AM5: 1993 | AN5: 1992 | AO5: 1991 | AP5: 1990 | AQ5: 1989 | AR5: 1988 | AS5: 1987 | AT5: 1986 | AU5: 1985 | AV5: 1984 | AW5: 1983
A6: Biobränslen | B6: Biofuels | C6: =IF(Innehåll_Content!$E$2="Svenska",A6,B6) -> Biobränslen | D6: 135.93851 | E6: 136.87995 | F6: 136.8042 | G6: 135.23695 | H6: 133.18732 | I6: 149.56161 | J6: 153.52278 | K6: 151.48889 | L6: 140.70056 | M6: 145.02917 | N6: 140.84778 | O6: 142.23833 | P6: 138.76722 | Q6: 133.38333 | R6: 129.91056 | S6: 129.39806 | T6: 128.48944 | U6: 122.87611 | V6: 127.11833 | W6: 118.70639 | X6: 115.67228 | Y6: 113.50181 | Z6: 109.12949 | AA6: 105.14543 | AB6: 96.3408 | AC6: 96.081566 | AD6: 91.154511 | AE6: 86.479743 | AF6: 83.588179 | AG6: 82.865108 | AH6: 82.17056 | AI6: 83.422217 | AJ6: 81.116447 | AK6: 77.331062 | AL6: 71.783924 | AM6: 68.44115 | AN6: 65.063645 | AO6: 63.668679 | AP6: 61.282817 | AQ6: 61.875565 | AR6: 62.650858 | AS6: 61.344702 | AT6: 60.949796 | AU6: 60.612485 | AV6: 57.574882 | AW6: 51.745618
A7: Kol och koks | B7: Coal and coke | C7: =IF(Innehåll_Content!$E$2="Svenska",A7,B7) -> Kol och koks | D7: 14.876241 | E7: 14.4632 | F7: 16.809952 | G7: 17.580592 | H7: 17.426154 | I7: 15.593239 | J7: 16.987222 | K7: 19.106944 | L7: 17.640278 | M7: 19.298889 | N7: 22.136389 | O7: 21.187778 | P7: 21.094167 | Q7: 20.555278 | R7: 21.248889 | S7: 21.890833 | T7: 21.270556 | U7: 23.129722 | V7: 23.8075 | W7: 17.2375 | X7: 23.093333 | Y7: 25.939167 | Z7: 26.674444 | AA7: 25.483611 | AB7: 26.958889 | AC7: 25.8225 | AD7: 26.260833 | AE7: 26.0575 | AF7: 24.213056 | AG7: 25.361111 | AH7: 25.026944 | AI7: 25.710278 | AJ7: 30.6025 | AK7: 28.455278 | AL7: 27.570278 | AM7: 28.415556 | AN7: 27.506111 | AO7: 28.668056 | AP7: 31.5625 | AQ7: 30.960833 | AR7: 32.390556 | AS7: 34.128611 | AT7: 34.602778 | AU7: 36.248056 | AV7: 28.577222 | AW7: 24.566944
A8: Råolja och petroleumprodukter | B8: Crude oil and petroleum products | C8: =IF(Innehåll_Content!$E$2="Svenska",A8,B8) -> Råolja och petroleumprodukter | D8: 105.50125 | E8: 109.26315 | F8: 111.54423 | G8: 114.77779 | H8: 117.92228 | I8: 104.30659 | J8: 104.35333 | K8: 108.41222 | L8: 104.02 | M8: 113.39222 | N8: 112.65944 | O8: 122.88389 | P8: 128.57833 | Q8: 120.18611 | R8: 134.61806 | S8: 134.77917 | T8: 143.88333 | U8: 150.525 | V8: 156.44722 | W8: 143.80361 | X8: 154.9075 | Y8: 148.83194 | Z8: 162.77611 | AA8: 164.22528 | AB8: 176.77361 | AC8: 174.12124 | AD8: 173.79002 | AE8: 163.27661 | AF8: 168.00338 | AG8: 174.10238 | AH8: 175.98066 | AI8: 173.80507 | AJ8: 187.80229 | AK8: 176.11327 | AL8: 170.88544 | AM8: 160.94208 | AN8: 165.15458 | AO8: 169.5526 | AP8: 167.59601 | AQ8: 189.13194 | AR8: 195.90028 | AS8: 195.94028 | AT8: 200.32472 | AU8: 199.71611 | AV8: 190.75556 | AW8: 202.06472
A9: Natur- och stadsgas | B9: Natural gas and gaswork gases | C9: =IF(Innehåll_Content!$E$2="Svenska",A9,B9) -> Natur- och stadsgas | D9: 8.1013617 | E9: 8.0132536 | F9: 7.8058964 | G9: 7.5901936 | H9: 7.6909878 | I9: 9.7489882 | J9: 9.0336111 | K9: 12.006667 | L9: 11.183333 | M9: 11.589167 | N9: 11.298889 | O9: 10.684444 | P9: 11.098889 | Q9: 10.373056 | R9: 9.3375 | S9: 11.373889 | T9: 11.834444 | U9: 13.574167 | V9: 17.186667 | W9: 12.772222 | X9: 9.5669444 | Y9: 10.536667 | Z9: 10.209722 | AA9: 9.7525 | AB9: 10.285556 | AC9: 10.330278 | AD9: 9.3238889 | AE9: 9.1619444 | AF9: 8.1208333 | AG9: 8.3036111 | AH9: 8.7386111 | AI9: 8.3591667 | AJ9: 8.4661111 | AK9: 7.9022222 | AL9: 7.8927778 | AM9: 7.9508333 | AN9: 8.0891667 | AO9: 7.1711111 | AP9: 6.7066667 | AQ9: 5.3675 | AR9: 4.0283333 | AS9: 3.1536111 | AT9: 2.3436111 | AU9: 0.8425 | AV9: 0 | AW9: 0
A10: Övriga bränslen | B10: Other fuels | C10: =IF(Innehåll_Content!$E$2="Svenska",A10,B10) -> Övriga bränslen | D10: 12.278755 | E10: 12.180244 | F10: 12.088258 | G10: 11.997563 | H10: 11.820137 | I10: 12.135271 | J10: 13.393333 | K10: 14.324167 | L10: 13.308056 | M10: 13.810833 | N10: 13.890278 | O10: 13.188056 | P10: 12.916389 | Q10: 10.894167 | R10: 10.827222 | S10: 10.841111 | T10: 10.9175 | U10: 11.670556 | V10: 11.737222 | W10: 9.8711111 | X10: 10.543056 | Y10: 9.3677778 | Z10: 8.1636111 | AA10: 8.7933333 | AB10: 11.607654 | AC10: 9.5538666 | AD10: 8.731311 | AE10: 7.5144998 | AF10: 7.3131446 | AG10: 6.8834577 | AH10: 9.3961535 | AI10: 6.8717023 | AJ10: 7.3072526 | AK10: 7.3703272 | AL10: 6.9744098 | AM10: 7.0563495 | AN10: 6.7277442 | AO10: 6.788265 | AP10: 5.4732939 | AQ10: 4.5899909 | AR10: 4.0935865 | AS10: 4.0508534 | AT10: 3.9407591 | AU10: 2.7966815 | AV10: 2.2242847 | AW10: 1.5254929
A11: Kärnbränsle | B11: Nuclear fuel | C11: =IF(Innehåll_Content!$E$2="Svenska",A11,B11) -> Kärnbränsle | D11: 147.81375 | E11: 147.81375 | F11: 147.81375 | G11: 145.40787 | H11: 141.30415 | I11: 135.62438 | J11: 145.20917 | K11: 150.28667 | L11: 138.12417 | M11: 180.945 | N11: 193.93917 | O11: 183.73611 | P11: 177.77778 | Q11: 155.35083 | R11: 181.75833 | S11: 189.17167 | T11: 187.50333 | U11: 171.125 | V11: 166.44694 | W11: 149.42833 | X11: 183.60806 | Y11: 191.40083 | Z11: 193.84722 | AA11: 209.62028 | AB11: 227.06412 | AC11: 199.64058 | AD11: 200.69891 | AE11: 214.07341 | AF11: 168.30936 | AG11: 213.37561 | AH11: 218.05087 | AI11: 205.97893 | AJ11: 224.44737 | AK11: 207.31638 | AL11: 217.35307 | AM11: 182.18395 | AN11: 188.27807 | AO11: 228.44809 | AP11: 202.39689 | AQ11: 196.3144 | AR11: 206.6651 | AS11: 199.83829 | AT11: 202.16429 | AU11: 172.78691 | AV11: 151.50401 | AW11: 123.6269
A12: Primär värme | B12: Primary heat | C12: =IF(Innehåll_Content!$E$2="Svenska",A12,B12) -> Primär värme | D12: 5.1615781 | E12: 5.1392299 | F12: 5.1156299 | G12: 5.0906176 | H12: 5.0493502 | I12: 5.2366742 | J12: 4.1522222 | K12: 4.5338889 | L12: 4.705 | M12: 4.2952778 | N12: 4.3552778 | O12: 4.3469444 | P12: 4.4913889 | Q12: 4.9258333 | R12: 5.0291667 | S12: 4.4608333 | T12: 5.7927778 | U12: 5.0566667 | V12: 5.4238889 | W12: 5.1944444 | X12: 5.6975 | Y12: 5.7886111 | Z12: 5.8388889 | AA12: 6.1936111 | AB12: 6.6769444 | AC12: 6.6238889 | AD12: 7.69 | AE12: 7.5961111 | AF12: 7.4838889 | AG12: 7.5238889 | AH12: 7.3680556 | AI12: 6.1088889 | AJ12: 6.9161111 | AK12: 6.9669444 | AL12: 6.925 | AM12: 7.2130556 | AN12: 6.9130556 | AO12: 7.3869444 | AP12: 7.0830556 | AQ12: 6.8311111 | AR12: 6.9222222 | AS12: 6.9069444 | AT12: 5.2819444 | AU12: 3.2111111 | AV12: 1.9180556 | AW12: 0.71305556
A13: Vattenkraft | B13: Hydro power | C13: =IF(Innehåll_Content!$E$2="Svenska",A13,B13) -> Vattenkraft | D13: 67.444 | E13: 67.444 | F13: 67.444 | G13: 66 | H13: 64.8 | I13: 66.090901 | J13: 69.808056 | K13: 73.794167 | L13: 72.286111 | M13: 65.297222 | N13: 62.1475 | O13: 65.062778 | P13: 62.133889 | Q13: 75.3125 | R13: 63.763056 | S13: 61.361111 | T13: 78.939444 | U13: 67.063333 | V13: 67.175556 | W13: 65.539444 | X13: 69.279444 | Y13: 66.169722 | Z13: 61.615556 | AA13: 72.403333 | AB13: 60.588 | AC13: 53.471 | AD13: 66.358 | AE13: 79.061 | AF13: 78.584 | AG13: 71.691 | AH13: 74.74 | AI13: 69.216 | AJ13: 51.74 | AK13: 68.102 | AL13: 59.1 | AM13: 74.651 | AN13: 74.332 | AO13: 63.236 | AP13: 72.503 | AQ13: 71.751 | AR13: 69.883 | AS13: 71.854 | AT13: 60.933 | AU13: 70.987 | AV13: 67.911 | AW13: 63.547
A14: Vindkraft | B14: Wind power | C14: =IF(Innehåll_Content!$E$2="Svenska",A14,B14) -> Vindkraft | D14: 47.3 | E14: 46.1 | F14: 44.4 | G14: 42.1 | H14: 40.3 | I14: 34.07461 | J14: 33.06 | K14: 27.108333 | L14: 27.526111 | M14: 19.846667 | N14: 16.616667 | O14: 17.608611 | P14: 15.479444 | Q14: 16.322778 | R14: 11.234167 | S14: 9.8422222 | T14: 7.1652778 | U14: 6.1102778 | V14: 3.4863889 | W14: 2.4902778 | X14: 2.0005556 | Y14: 1.4316667 | Z14: 0.98833333 | AA14: 0.93944444 | AB14: 0.85 | AC14: 0.631 | AD14: 0.608 | AE14: 0.482 | AF14: 0.457 | AG14: 0.358 | AH14: 0.308 | AI14: 0.203 | AJ14: 0.144 | AK14: 0.099 | AL14: 0.072 | AM14: 0.048 | AN14: 0.031 | AO14: 0.013 | AP14: 0.006 | AQ14: 0 | AR14: 0 | AS14: 0 | AT14: 0 | AU14: 0 | AV14: 0 | AW14: 0
A15: Solkraft | B15: Solar power | C15: =IF(Innehåll_Content!$E$2="Svenska",A15,B15) -> Solkraft | D15: 9 | E15: 8 | F15: 6.5 | G15: 5.5 | H15: 4.14 | I15: 3.101941 | J15: 1.965 | K15: 1.1255556 | L15: 0.80472222 | M15: 0.45111111 | N15: 0.25888889 | O15: 0.14083333 | P15: 0.14305556 | Q15: 0.096944444 | R15: 0.046944444 | S15: 0.035 | T15: 0.018888889 | U15: 0.013055556 | V15: 0 | W15: 0 | X15: 0 | Y15: 0 | Z15: 0 | AA15: 0 | AB15: 0 | AC15: 0 | AD15: 0 | AE15: 0 | AF15: 0 | AG15: 0 | AH15: 0 | AI15: 0 | AJ15: 0 | AK15: 0 | AL15: 0 | AM15: 0 | AN15: 0 | AO15: 0 | AP15: 0 | AQ15: 0 | AR15: 0 | AS15: 0 | AT15: 0 | AU15: 0 | AV15: 0 | AW15: 0
A16: Import-export el | B16: Import-export electricity | C16: =IF(Innehåll_Content!$E$2="Svenska",A16,B16) -> Import-export el | D16: -39.277527 | E16: -43.381576 | F16: -44.043464 | G16: -42.010137 | H16: -33.210251 | I16: -28.514 | J16: -33.226111 | K16: -25.568889 | L16: -24.996944 | M16: -26.160556 | N16: -17.223056 | O16: -18.9925 | P16: -11.734722 | Q16: -22.600556 | R16: -15.622222 | S16: -9.9605556 | T16: -19.574444 | U16: -7.2330556 | V16: 2.0788889 | W16: 4.685 | X16: -1.9608333 | Y16: 1.3161111 | Z16: 6.0511111 | AA16: -7.3936111 | AB16: -2.104 | AC16: 12.829 | AD16: 5.356 | AE16: -7.29 | AF16: 4.677 | AG16: -7.482 | AH16: -10.697 | AI16: -2.708 | AJ16: 6.139 | AK16: -1.714 | AL16: 0.261 | AM16: -0.586 | AN16: -2.156 | AO16: -1.294 | AP16: -1.768 | AQ16: -0.473 | AR16: -2.607 | AS16: -4.17 | AT16: -4.659 | AU16: -1.509 | AV16: 0.386 | AW16: 4.936
A17: Total tillförd energi | B17: Total energy supply | C17: =IF(Innehåll_Content!$E$2="Svenska",A17,B17) -> Total tillförd energi | D17: 512.95672 | E17: 510.64 | F17: 510.90161 | G17: 507.79137 | H17: 506.97358 | I17: 506.96021 | J17: 518.25861 | K17: 536.61861 | L17: 505.30139 | M17: 547.795 | N17: 560.92722 | O17: 562.08528 | P17: 560.74583 | Q17: 524.80028 | R17: 552.15167 | S17: 563.19333 | T17: 576.24056 | U17: 563.91083 | V17: 580.90861 | W17: 529.72833 | X17: 572.40783 | Y17: 574.28431 | Z17: 585.29449 | AA17: 595.1632 | AB17: 615.04157 | AC17: 589.10492 | AD17: 589.97148 | AE17: 586.41282 | AF17: 550.74984 | AG17: 582.98217 | AH17: 591.08285 | AI17: 576.96725 | AJ17: 604.68108 | AK17: 577.94248 | AL17: 568.8179 | AM17: 536.31597 | AN17: 539.93938 | AO17: 573.63874 | AP17: 552.84224 | AQ17: 566.34934 | AR17: 579.92693 | AS17: 573.04729 | AT17: 565.8819 | AU17: 545.69185 | AV17: 500.85101 | AW17: 472.72573
... A21: Andel fossilfria bränslen | B21: Fossil free share | C21: =IF(Innehåll_Content!$E$2="Svenska",A21,B21) -> Andel fossilfria bränslen | D21: 0.83981306 | E21: 0.83991655 | F21: 0.83230024 | G21: 0.81902815 | H21: 0.79866698 | I21: 0.80900847 | J21: 0.8155307 | K21: 0.79575033 | L21: 0.7838578 | M21: 0.79319763 | N21: 0.78056607 | O21: 0.77621596 | P21: 0.74910173 | Q21: 0.77034848 | R21: 0.7445427 | S21: 0.7322938 | T21: 0.73635156 | U21: 0.68897686 | V21: 0.66550281 | W21: 0.67307129 | X21: 0.69404297 | Y21: 0.69769212 | Z21: 0.66968341 | AA21: 0.69819633 | AB21: 0.66451949 | AC21: 0.6301334 | AD21: 0.64979033 | AE21: 0.6922073 | AF21: 0.63900932 | AG21: 0.66556166 | AH21: 0.67352768 | AI21: 0.65748863 | AJ21: 0.62331317 | AK21: 0.6461454 | AL21: 0.64730948 | AM21: 0.64321898 | AN21: 0.64348892 | AO21: 0.65332843 | AP21: 0.64833633 | AQ21: 0.6152853 | AR21: 0.6186133 | AS21: 0.61439376 | AT21: 0.60375498 | AU21: 0.58115921 | AV21: 0.5788141 | AW21: 0.52782743
A23: Källa: SCB och Energimyndigheten | B23: Source: Statistics Sweden and The Swedish Energy Agency | C23: =IF(Innehåll_Content!$E$2="Svenska",A23,B23) -> Källa: SCB och Energimyndigheten
A25: Anm. Olja som bunkras för utrikes sjöfart samt bränslen för icke energiändamål är ej inkluderade. | B25: Note: International marine bunkers and fuels for non-energy purposes are not included | C25: =IF(Innehåll_Content!$E$2="Svenska",A25,B25) -> Anm. Olja som bunkras för utrikes sjöfart samt bränslen för icke energiändamål är ej inkluderade.
A27: Andel fossilt bränsle i förhållande till slutlig energiänvändning, 1990–,TWh | B27: Share of fossil fuels in relation to final energy consumption, 1990–, TWh | C27: =IF(Innehåll_Content!$E$2="Svenska",A27,B27) -> Andel fossilt bränsle i förhållande till slutlig energiänvändning, 1990–,TWh
D28: 2028 | E28: 2027 | F28: 2026 | G28: 2025 | H28: 2024 | I28: 2023 | J28: 2022 | K28: 2021 | L28: 2020 | M28: 2019 | N28: 2018 | O28: 2017 | P28: 2016 | Q28: 2015 | R28: 2014 | S28: 2013 | T28: 2012 | U28: 2011 | V28: 2010 | W28: 2009 | X28: 2008 | Y28: 2007 | Z28: 2006 | AA28: 2005 | AB28: 2004 | AC28: 2003 | AD28: 2002 | AE28: 2001 | AF28: 2000 | AG28: 1999 | AH28: 1998 | AI28: 1997 | AJ28: 1996 | AK28: 1995 | AL28: 1994 | AM28: 1993 | AN28: 1992 | AO28: 1991 | AP28: 1990
A29: Biobränslen | B29: Biofuels | C29: =IF(Innehåll_Content!$E$2="Svenska",A29,B29) -> Biobränslen | D29: 82.212266 | E29: 83.417032 | F29: 83.649774 | G29: 82.369812 | H29: 81.206167 | I29: 92.559936 | J29: 95.891184 | K29: 91.93651 | L29: 90.343278 | M29: 89.449681 | N29: 87.98905 | O29: 88.953158 | P29: 86.67151 | Q29: 83.35624 | R29: 80.64313 | S29: 77.961368 | T29: 76.504632 | U29: 74.587299 | V29: 73.765693 | W29: 71.746914 | X29: 72.017336 | Y29: 71.972565 | Z29: 68.257627 | AA29: 67.878852 | AB29: 69.565482 | AC29: 68.98064 | AD29: 65.744972 | AE29: 61.624857 | AF29: 62.133427 | AG29: 62.291156 | AH29: 61.218259 | AI29: 62.452021 | AJ29: 60.162838 | AK29: 60.231409 | AL29: 56.995996 | AM29: 56.724644 | AN29: 55.300609 | AO29: 55.462882 | AP29: 53.818408
A30: Kol och koks | B30: Coal and coke | C30: =IF(Innehåll_Content!$E$2="Svenska",A30,B30) -> Kol och koks | D30: 10.246127 | E30: 9.9024559 | F30: 11.824196 | G30: 12.507106 | H30: 12.37121 | I30: 12.894795 | J30: 12.693722 | K30: 13.159803 | L30: 12.159339 | M30: 13.115307 | N30: 13.130747 | O30: 14.11257 | P30: 13.441398 | Q30: 14.087453 | R30: 14.541281 | S30: 14.151879 | T30: 14.105136 | U30: 15.75482 | V30: 15.485038 | W30: 9.8979751 | X30: 16.033339 | Y30: 17.362433 | Z30: 15.942536 | AA30: 15.742194 | AB30: 17.33 | AC30: 17.096111 | AD30: 17.209722 | AE30: 16.670833 | AF30: 15.629722 | AG30: 14.5675 | AH30: 15.028889 | AI30: 15.361111 | AJ30: 16.010833 | AK30: 15.8125 | AL30: 15.192778 | AM30: 14.8075 | AN30: 14.6975 | AO30: 15.415278 | AP30: 17.368056
A31: Petroleumprodukter | B31: Petroleum products | C31: =IF(Innehåll_Content!$E$2="Svenska",A31,B31) -> Petroleumprodukter | D31: 70.267232 | E31: 74.433067 | F31: 76.708388 | G31: 80.039615 | H31: 82.301774 | I31: 71.021618 | J31: 70.545013 | K31: 78.303559 | L31: 76.992502 | M31: 84.37494 | N31: 84.380572 | O31: 88.081051 | P31: 88.877031 | Q31: 92.121691 | R31: 92.995067 | S31: 96.77294 | T31: 100.85677 | U31: 106.5357 | V31: 110.80015 | W31: 108.22087 | X31: 114.19342 | Y31: 118.02312 | Z31: 119.51618 | AA31: 122.1388 | AB31: 126.97584 | AC31: 129.14114 | AD31: 127.48795 | AE31: 126.50204 | AF31: 127.4356 | AG31: 131.51961 | AH31: 132.6076 | AI31: 132.34118 | AJ31: 134.34006 | AK31: 132.93133 | AL31: 131.98739 | AM31: 127.93513 | AN31: 129.56292 | AO31: 131.79038 | AP31: 136.04574
A32: Natur- och stadsgas | B32: Natural gas and gaswork gases | C32: =IF(Innehåll_Content!$E$2="Svenska",A32,B32) -> Natur- och stadsgas | D32: 4.2583232 | E32: 4.2288713 | F32: 4.0347642 | G32: 3.845248 | H32: 3.8255727 | I32: 3.8377788 | J32: 4.8033235 | K32: 6.2441728 | L32: 6.0583784 | M32: 5.7448225 | N32: 5.3744858 | O32: 5.8406934 | P32: 6.2184242 | Q32: 5.9481705 | R32: 5.9102337 | S32: 5.7400454 | T32: 6.348166 | U32: 6.1758056 | V32: 6.3953445 | W32: 5.3731666 | X32: 5.4373733 | Y32: 5.9855497 | Z32: 6.0536118 | AA32: 5.4648441 | AB32: 6.8705556 | AC32: 6.705 | AD32: 5.8086111 | AE32: 5.9375 | AF32: 5.3636111 | AG32: 5.6041667 | AH32: 5.2075 | AI32: 5.0608333 | AJ32: 5.0947222 | AK32: 4.6841667 | AL32: 4.4155556 | AM32: 4.3972222 | AN32: 4.6958333 | AO32: 4.5166667 | AP32: 4.4961111
A33: Övriga bränslen | B33: Other fuels | C33: =IF(Innehåll_Content!$E$2="Svenska",A33,B33) -> Övriga bränslen | D33: 5.795067 | E33: 5.6623704 | F33: 5.5261341 | G33: 5.4058888 | H33: 5.3183985 | I33: 5.1640188 | J33: 4.4949703 | K33: 6.1874745 | L33: 3.0842291 | M33: 5.8799892 | N33: 6.0395534 | O33: 5.8016147 | P33: 6.1430545 | Q33: 4.8018277 | R33: 5.3293729 | S33: 5.4233306 | T33: 3.901009 | U33: 4.4174658 | V33: 4.3905631 | W33: 3.6932199 | X33: 5.0683135 | Y33: 5.6815395 | Z33: 5.118933 | AA33: 5.7985737 | AB33: 0.11936032 | AC33: 0.16663627 | AD33: 0.096900927 | AE33: 0.10210844 | AF33: 0.062802 | AG33: 0.29955286 | AH33: 1.5302875 | AI33: 0.08141 | AJ33: 0.12793 | AK33: 0.17445 | AL33: 0.14183948 | AM33: 0.16896064 | AN33: 0.12793 | AO33: 0.08195661 | AP33: 0.1214172
A34: Fjärrvärme (fossilfri) | B34: District heating (fossil free) | C34: =IF(Innehåll_Content!$E$2="Svenska",A34,B34) -> Fjärrvärme (fossilfri) | D34: 40.774666 | E34: 40.5828 | F34: 40.384528 | G34: 40.176346 | H34: 39.80956 | I34: 41.72985 | J34: 39.553669 | K34: 41.427229 | L34: 37.335115 | M34: 38.576534 | N34: 38.405279 | O34: 39.206936 | P34: 38.668417 | Q34: 38.723605 | R34: 38.4352 | S34: 38.999889 | T34: 38.238867 | U34: 34.284657 | V34: 37.562836 | W34: 35.077406 | X34: 35.235347 | Y34: 35.183796 | Z34: 34.326374 | AA34: 34.714452 | AB34: 30.946678 | AC34: 30.738396 | AD34: 30.970306 | AE34: 31.552863 | AF34: 29.070414 | AG34: 28.590313 | AH34: 25.366074 | AI34: 24.575412 | AJ34: 24.299145 | AK34: 23.499456 | AL34: 21.51833 | AM34: 21.499478 | AN34: 19.513519 | AO34: 19.205692 | AP34: 18.08948
A35: Fjärrvärme (fossil) | B35: District heating (fossil) | C35: =IF(Innehåll_Content!$E$2="Svenska",A35,B35) -> Fjärrvärme (fossil) | D35: 9.1403085 | E35: 9.1160564 | F35: 9.0861056 | G35: 9.0524057 | H35: 9.0201166 | I35: 8.8945423 | J35: 8.943914 | K35: 9.4110539 | L35: 9.391084 | M35: 10.22725 | N35: 11.273634 | O35: 10.751713 | P35: 11.360985 | Q35: 9.8894802 | R35: 10.160953 | S35: 11.995581 | T35: 11.718814 | U35: 12.712845 | V35: 16.299646 | W35: 13.024184 | X35: 11.576758 | Y35: 11.624463 | Z35: 12.10953 | AA35: 12.292772 | AB35: 15.775267 | AC35: 15.784548 | AD35: 14.679638 | AE35: 13.522304 | AF35: 12.280364 | AG35: 14.841631 | AH35: 17.79587 | AI35: 17.300477 | AJ35: 21.1138 | AK35: 17.671433 | AL35: 18.953837 | AM35: 18.656633 | AN35: 17.989426 | AO35: 18.689363 | AP35: 16.198576
A36: El (fossilfri) | B36: Electricity (fossil free) | C36: =IF(Innehåll_Content!$E$2="Svenska",A36,B36) -> El (fossilfri) | D36: 130.41069 | E36: 124.22886 | F36: 120.51723 | G36: 117.24912 | H36: 118.30366 | I36: 115.44904 | J36: 117.16274 | K36: 123.16739 | L36: 118.10747 | M36: 121.36919 | N36: 122.80526 | O36: 122.95308 | P36: 121.29343 | Q36: 119.66534 | R36: 117.55182 | S36: 120.61811 | T36: 122.55254 | U36: 119.80688 | V36: 122.07116 | W36: 117.97686 | X36: 121.70931 | Y36: 124.09492 | Z36: 124.84257 | AA36: 124.52331 | AB36: 124.22099 | AC36: 120.40565 | AD36: 124.0061 | AE36: 126.8801 | AF36: 123.76669 | AG36: 120.51872 | AH36: 120.32101 | AI36: 118.80671 | AJ36: 114.79712 | AK36: 117.72271 | AL36: 115.04164 | AM36: 114.99455 | AN36: 114.90659 | AO36: 117.52898 | AP36: 117.50959
A37: El (fossil) | B37: Electricity (fossil) | C37: =IF(Innehåll_Content!$E$2="Svenska",A37,B37) -> El (fossil) | D37: 1.3780287 | E37: 1.3268457 | F37: 1.4144709 | G37: 1.4327891 | H37: 1.4596943 | I37: 1.7063977 | J37: 2.0620353 | K37: 2.2520798 | L37: 1.8470748 | M37: 2.3886444 | N37: 2.9769424 | O37: 2.8703601 | P37: 3.3463294 | Q37: 2.8614745 | R37: 2.8791266 | S37: 3.9641573 | T37: 3.7946955 | U37: 5.5281215 | V37: 7.7536401 | W37: 5.381662 | X37: 4.4650755 | Y37: 4.9443292 | Z37: 5.4793266 | AA37: 4.7131594 | AB37: 6.1662331 | AC37: 9.0203478 | AD37: 7.0429532 | AE37: 5.3667859 | AF37: 5.2689785 | AG37: 6.0941167 | AH37: 6.2445999 | AI37: 6.3831221 | AJ37: 11.36288 | AK37: 6.7664032 | AL37: 7.4155315 | AM37: 6.1244491 | AN37: 5.0735242 | AO37: 4.4870789 | AP37: 2.9653571
A38: Slutlig energianvändning | B38: Final energy consumption | C38: =IF(Innehåll_Content!$E$2="Svenska",A38,B38) -> Slutlig energianvändning | D38: 354.48271 | E38: 352.89836 | F38: 353.14559 | G38: 352.07833 | H38: 353.61616 | I38: 353.25797 | J38: 356.15058 | K38: 372.08927 | L38: 355.31847 | M38: 371.12635 | N38: 372.37552 | O38: 378.57117 | P38: 376.02058 | Q38: 371.45528 | R38: 368.44619 | S38: 375.6273 | T38: 378.02063 | U38: 379.8036 | V38: 394.52407 | W38: 370.39226 | X38: 385.73628 | Y38: 394.87272 | Z38: 391.64669 | AA38: 393.26696 | AB38: 397.97041 | AC38: 398.03847 | AD38: 393.04716 | AE38: 388.15939 | AF38: 381.01161 | AG38: 384.32676 | AH38: 385.32009 | AI38: 382.36228 | AJ38: 387.30933 | AK38: 379.49385 | AL38: 371.66289 | AM38: 365.30857 | AN38: 361.86785 | AO38: 367.17827 | AP38: 366.61273
A39: Andel fossilt | B39: Fossil fuel share | C39: =IF(Innehåll_Content!$E$2="Svenska",A39,B39) -> Andel fossilt | D39: 0.26881429 | E39: 0.28055471 | F39: 0.29185675 | G39: 0.30356075 | H39: 0.30818266 | I39: 0.27842296 | J39: 0.27810711 | K39: 0.29393664 | L39: 0.29958583 | M39: 0.31216044 | N39: 0.3145652 | O39: 0.32135671 | P39: 0.3277591 | Q39: 0.33626732 | R39: 0.34329751 | S39: 0.35307498 | T39: 0.3619474 | U39: 0.38627148 | V39: 0.39727315 | W39: 0.38310158 | X39: 0.39328935 | Y39: 0.39997672 | Z39: 0.40623652 | AA39: 0.4077428 | AB39: 0.43500194 | AC39: 0.44655771 | AD39: 0.43818883 | AE39: 0.43281051 | AF39: 0.43562525 | AG39: 0.44916732 | AH39: 0.45905849 | AI39: 0.46146478 | AJ39: 0.48519951 | AK39: 0.46869225 | AL39: 0.47883471 | AM39: 0.47061841 | AN39: 0.4753647 | AO39: 0.47633201 | AP39: 0.4829997
A40: Andel fossilt inkl. övriga bränslen | B40: Fossil fuel share including other fuels | C40: =IF(Innehåll_Content!$E$2="Svenska",A40,B40) -> Andel fossilt inkl. övriga bränslen | D40: 0.28516225 | E40: 0.29660004 | F40: 0.30750507 | G40: 0.31891498 | H40: 0.32322269 | I40: 0.29304123 | J40: 0.2907281 | K40: 0.31056564 | L40: 0.30826601 | M40: 0.32800407 | N40: 0.33078419 | O40: 0.33668174 | P40: 0.34409612 | Q40: 0.34919438 | R40: 0.35776197 | S40: 0.36751304 | T40: 0.37226696 | U40: 0.3979024 | V40: 0.40840191 | W40: 0.39307268 | X40: 0.40642867 | Y40: 0.414365 | Z40: 0.4193068 | AA40: 0.42248742 | AB40: 0.43530186 | AC40: 0.44697635 | AD40: 0.43843537 | AE40: 0.43307356 | AF40: 0.43579008 | AG40: 0.44994674 | AH40: 0.46302996 | AI40: 0.46167769 | AJ40: 0.48552982 | AK40: 0.46915195 | AL40: 0.47921634 | AM40: 0.47108092 | AN40: 0.47571823 | AO40: 0.47655522 | AP40: 0.48333088
A41: Andel fossilfritt | B41: Fossil free share | C41: =IF(Innehåll_Content!$E$2="Svenska",A41,B41) -> Andel fossilfritt | D41: 0.71483775 | E41: 0.70339996 | F41: 0.69249493 | G41: 0.68108502 | H41: 0.67677731 | I41: 0.70695877 | J41: 0.7092719 | K41: 0.68943436 | L41: 0.69173399 | M41: 0.67199593 | N41: 0.66921581 | O41: 0.66331826 | P41: 0.65590388 | Q41: 0.65080562 | R41: 0.64223803 | S41: 0.63248696 | T41: 0.62773304 | U41: 0.6020976 | V41: 0.59159809 | W41: 0.60692732 | X41: 0.59357133 | Y41: 0.585635 | Z41: 0.5806932 | AA41: 0.57751258 | AB41: 0.56469814 | AC41: 0.55302365 | AD41: 0.56156463 | AE41: 0.56692644 | AF41: 0.56420992 | AG41: 0.55005326 | AH41: 0.53697004 | AI41: 0.53832231 | AJ41: 0.51447018 | AK41: 0.53084805 | AL41: 0.52078366 | AM41: 0.52891908 | AN41: 0.52428177 | AO41: 0.52344478 | AP41: 0.51666912
A43: Källa: SCB och Energimyndigheten | B43: Source: Statistics Sweden and The Swedish Energy Agency | C43: =IF(Innehåll_Content!$E$2="Svenska",A43,B43) -> Källa: SCB och Energimyndigheten
A45: Användning av fossila bränslen (olja, kol och naturgas/stadsgas) i förhållande till slutlig energianvändning inom olika sektorer, 1983– | B45: Use of fossil fuels (oil, coal and natural gas/town gas) in relation to final energy consumption in different sectors, 1983– | C45: =IF(Innehåll_Content!$E$2="Svenska",A45,B45) -> Användning av fossila bränslen (olja, kol och naturgas/stadsgas) i förhållande till slutlig energianvändning inom olika sektorer, 1983–
D46: 2028 | E46: 2027 | F46: 2026 | G46: 2025 | H46: 2024 | I46: 2023 | J46: 2022 | K46: 2021 | L46: 2020 | M46: 2019 | N46: 2018 | O46: 2017 | P46: 2016 | Q46: 2015 | R46: 2014 | S46: 2013 | T46: 2012 | U46: 2011 | V46: 2010 | W46: 2009 | X46: 2008 | Y46: 2007 | Z46: 2006 | AA46: 2005 | AB46: 2004 | AC46: 2003 | AD46: 2002 | AE46: 2001 | AF46: 2000 | AG46: 1999 | AH46: 1998 | AI46: 1997 | AJ46: 1996 | AK46: 1995 | AL46: 1994 | AM46: 1993 | AN46: 1992 | AO46: 1991 | AP46: 1990 | AQ46: 1989 | AR46: 1988 | AS46: 1987 | AT46: 1986 | AU46: 1985 | AV46: 1984 | AW46: 1983
A47: Bostäder | B47: Dwellings | C47: =IF(Innehåll_Content!$E$2="Svenska",A47,B47) -> Bostäder | I47: 0.022137743 | J47: 0.025020981 | K47: 0.025563333 | L47: 0.026140747 | M47: 0.026443594 | N47: 0.028382126 | O47: 0.029306605 | P47: 0.031970714 | Q47: 0.036031058 | R47: 0.036855534 | S47: 0.038716881 | T47: 0.0386711 | U47: 0.041150405 | V47: 0.04971405 | W47: 0.055190522 | X47: 0.059998179 | Y47: 0.070925338 | Z47: 0.081217055 | AA47: 0.10403925 | AB47: 0.11895445 | AC47: 0.12370253 | AD47: 0.13705567 | AE47: 0.15470716 | AF47: 0.18655757 | AG47: 0.1847228 | AH47: 0.1968195 | AI47: 0.20560997 | AJ47: 0.21459807 | AK47: 0.22218725 | AL47: 0.22800675 | AM47: 0.22495205 | AN47: 0.23514757 | AO47: 0.24137851 | AP47: 0.25489214 | AQ47: 0.2597156 | AR47: 0.26781587 | AS47: 0.27263233 | AT47: 0.26247842 | AU47: 0.27080151 | AV47: 0.31520722 | AW47: 0.36214295
A48: Service | B48: Services | C48: =IF(Innehåll_Content!$E$2="Svenska",A48,B48) -> Service | I48: 0.058238307 | J48: 0.066765856 | K48: 0.070801003 | L48: 0.075232001 | M48: 0.075198353 | N48: 0.067585604 | O48: 0.067323967 | P48: 0.080852561 | Q48: 0.085040751 | R48: 0.091472089 | S48: 0.085164676 | T48: 0.097013425 | U48: 0.11082726 | V48: 0.10872085 | W48: 0.097957885 | X48: 0.1118462 | Y48: 0.12832383 | Z48: 0.12555757 | AA48: 0.12318811 | AB48: 0.099022972 | AC48: 0.10728688 | AD48: 0.10841422 | AE48: 0.11038265 | AF48: 0.12204898 | AG48: 0.12722135 | AH48: 0.12887617 | AI48: 0.13834023 | AJ48: 0.14706497 | AK48: 0.14571293 | AL48: 0.16692857 | AM48: 0.1780749 | AN48: 0.17404744 | AO48: 0.19488268 | AP48: 0.21029254 | AQ48: 0.22341424 | AR48: 0.24073507 | AS48: 0.24871281 | AT48: 0.22835215 | AU48: 0.28448255 | AV48: 0.32053832 | AW48: 0.35690801
A49: Jordbruk, skogsbruk, fiske | B49: Agriculture, forestry, fishing | C49: =IF(Innehåll_Content!$E$2="Svenska",A49,B49) -> Jordbruk, skogsbruk, fiske | I49: 0.40112181 | J49: 0.38101666 | K49: 0.40095518 | L49: 0.42677702 | M49: 0.43295402 | N49: 0.41448867 | O49: 0.45518174 | P49: 0.4489909 | Q49: 0.48851132 | R49: 0.50071239 | S49: 0.53169701 | T49: 0.56856874 | U49: 0.58349013 | V49: 0.59508208 | W49: 0.59793742 | X49: 0.63319594 | Y49: 0.63423064 | Z49: 0.61998744 | AA49: 0.61393527 | AB49: 0.75476797 | AC49: 0.79487251 | AD49: 0.81294858 | AE49: 0.82976363 | AF49: 0.82542307 | AG49: 0.81106243 | AH49: 0.8181002 | AI49: 0.79503555 | AJ49: 0.8072151 | AK49: 0.81118394 | AL49: 0.80838658 | AM49: 0.80230313 | AN49: 0.82514727 | AO49: 0.81172468 | AP49: 0.81164099 | AQ49: 0.8013767 | AR49: 0.79945526 | AS49: 0.75982435 | AT49: 0.77743832 | AU49: 0.76802549 | AV49: 0.78716962 | AW49: 0.80792321
...

Sheet 5
A1: Tillbaka till innehåll | B1: Back to content | C1: =IF(Innehåll_Content!$E$2="Svenska",A1,B1) -> Tillbaka till innehåll | I1: =IF(Innehåll_Content!$E$2="Svenska",'Texter och koder'!B2,'Texter och koder'!B3) -> Klicka på plus-minustecknet ovan för att visa och dölja prognosår
A2: 5. Elektrifiering | B2: Electrification | C2: =IF(Innehåll_Content!$E$2="Svenska",A2,B2) -> 5. Elektrifiering
A4: Andel el av slutlig energianvändning mellan 1970–, TWh och procent. | B4: Electricity share of final energy consuption between 1970-, TWh and percent | C4: =IF(Innehåll_Content!$E$2="Svenska",A4,B4) -> Andel el av slutlig energianvändning mellan 1970–, TWh och procent.
D5: 2028 | E5: 2027 | F5: 2026 | G5: 2025 | H5: 2024 | I5: 2023 | J5: 2022 | K5: 2021 | L5: 2020 | M5: 2019 | N5: 2018 | O5: 2017 | P5: 2016 | Q5: 2015 | R5: 2014 | S5: 2013 | T5: 2012 | U5: 2011 | V5: 2010 | W5: 2009 | X5: 2008 | Y5: 2007 | Z5: 2006 | AA5: 2005 | AB5: 2004 | AC5: 2003 | AD5: 2002 | AE5: 2001 | AF5: 2000 | AG5: 1999 | AH5: 1998 | AI5: 1997 | AJ5: 1996 | AK5: 1995 | AL5: 1994 | AM5: 1993 | AN5: 1992 | AO5: 1991 | AP5: 1990 | AQ5: 1989 | AR5: 1988 | AS5: 1987 | AT5: 1986 | AU5: 1985 | AV5: 1984 | AW5: 1983 | AX5: 1982 | AY5: 1981 | AZ5: 1980 | BA5: 1979 | BB5: 1978 | BC5: 1977 | BD5: 1976 | BE5: 1975 | BF5: 1974 | BG5: 1973 | BH5: 1972 | BI5: 1971 | BJ5: 1970
A6: Biobränsle | B6: Biofuels | C6: =IF(Innehåll_Content!$E$2="Svenska",A6,B6) -> Biobränsle | D6: 82.212266 | E6: 83.417032 | F6: 83.649774 | G6: 82.369812 | H6: 81.206167 | I6: 92.559936 | J6: 95.749167 | K6: 91.934722 | L6: 90.343333 | M6: 89.449722 | N6: 87.989167 | O6: 88.953333 | P6: 86.671667 | Q6: 83.356389 | R6: 80.643333 | S6: 77.961667 | T6: 76.504722 | U6: 74.5875 | V6: 73.765556 | W6: 71.746667 | X6: 72.017278 | Y6: 71.97237 | Z6: 68.257823 | AA6: 67.87876 | AB6: 69.565482 | AC6: 68.98064 | AD6: 65.744972 | AE6: 61.624857 | AF6: 62.133427 | AG6: 62.291156 | AH6: 61.218259 | AI6: 62.452021 | AJ6: 60.162838 | AK6: 60.231409 | AL6: 56.995996 | AM6: 56.724644 | AN6: 55.300609 | AO6: 55.462882 | AP6: 53.818408 | AQ6: 54.347306 | AR6: 54.847086 | AS6: 53.939944 | AT6: 54.109786 | AU6: 54.535613 | AV6: 52.134968 | AW6: 47.421214 | AX6: 43.6 | AY6: 46.1 | AZ6: 45 | BA6: 44.7 | BB6: 42.5 | BC6: 39.1 | BD6: 40.9 | BE6: 42.2 | BF6: 42.4 | BG6: 40.9 | BH6: 40 | BI6: 40.1 | BJ6: 44.8
A7: Kol och koks, inkl. koks- och masugnsgas | B7: coal and coke inkl. oven coke | C7: =IF(Innehåll_Content!$E$2="Svenska",A7,B7) -> Kol och koks, inkl. koks- och masugnsgas | D7: 10.246127 | E7: 9.9024559 | F7: 11.824196 | G7: 12.507106 | H7: 12.37121 | I7: 12.894795 | J7: 12.693611 | K7: 13.159722 | L7: 12.159444 | M7: 13.115 | N7: 13.130833 | O7: 14.112778 | P7: 13.441389 | Q7: 14.087222 | R7: 14.541389 | S7: 14.151944 | T7: 14.105 | U7: 15.754722 | V7: 15.485 | W7: 9.8980556 | X7: 16.033333 | Y7: 17.362222 | Z7: 15.9425 | AA7: 15.742222 | AB7: 17.33 | AC7: 17.096111 | AD7: 17.209722 | AE7: 16.670833 | AF7: 15.629722 | AG7: 14.5675 | AH7: 15.028889 | AI7: 15.361111 | AJ7: 16.010833 | AK7: 15.8125 | AL7: 15.192778 | AM7: 14.8075 | AN7: 14.6975 | AO7: 15.415278 | AP7: 17.368056 | AQ7: 16.805278 | AR7: 16.541944 | AS7: 15.798889 | AT7: 15.979444 | AU7: 16.093611 | AV7: 15.2175 | AW7: 13.927222 | AX7: 12.8 | AY7: 12.4 | AZ7: 14.8 | BA7: 16.6 | BB7: 14.8 | BC7: 13.9 | BD7: 17.3 | BE7: 18.9 | BF7: 17.4 | BG7: 16 | BH7: 14 | BI7: 14.7 | BJ7: 14.2
A8: Petroleumprodukter | B8: Petroleum products | C8: =IF(Innehåll_Content!$E$2="Svenska",A8,B8) -> Petroleumprodukter | D8: 70.267232 | E8: 74.433067 | F8: 76.708388 | G8: 80.039615 | H8: 82.301774 | I8: 71.021618 | J8: 70.808889 | K8: 77.945 | L8: 76.863889 | M8: 84.161389 | N8: 84.1425 | O8: 87.812222 | P8: 88.876389 | Q8: 92.120556 | R8: 92.994167 | S8: 96.772778 | T8: 100.85694 | U8: 106.53611 | V8: 110.80083 | W8: 108.22 | X8: 114.19306 | Y8: 118.02417 | Z8: 119.51639 | AA8: 122.13889 | AB8: 126.97584 | AC8: 129.14114 | AD8: 127.48795 | AE8: 126.50204 | AF8: 127.4356 | AG8: 131.51961 | AH8: 132.6076 | AI8: 132.34118 | AJ8: 134.34006 | AK8: 132.93133 | AL8: 131.98739 | AM8: 127.93513 | AN8: 129.56292 | AO8: 131.79038 | AP8: 136.04574 | AQ8: 147.60389 | AR8: 151.49194 | AS8: 153.74639 | AT8: 149.55222 | AU8: 153.41056 | AV8: 154.49222 | AW8: 159.04028 | AX8: 174.6 | AY8: 192.7 | AZ8: 207.9 | BA8: 228 | BB8: 224.3 | BC8: 226.6 | BD8: 234.9 | BE8: 223.3 | BF8: 216.9 | BG8: 248.4 | BH8: 239 | BI8: 238.1 | BJ8: 247.1
